BEGIN:VCALENDAR
VERSION:2.0
PRODID:-//VASHIVA - ECPv6.15.12.1//NONSGML v1.0//EN
CALSCALE:GREGORIAN
METHOD:PUBLISH
X-ORIGINAL-URL:https://vashiva.com
X-WR-CALDESC:Events for VASHIVA
REFRESH-INTERVAL;VALUE=DURATION:PT1H
X-Robots-Tag:noindex
X-PUBLISHED-TTL:PT1H
BEGIN:VTIMEZONE
TZID:America/New_York
BEGIN:DAYLIGHT
TZOFFSETFROM:-0500
TZOFFSETTO:-0400
TZNAME:EDT
DTSTART:20200308T070000
END:DAYLIGHT
BEGIN:STANDARD
TZOFFSETFROM:-0400
TZOFFSETTO:-0500
TZNAME:EST
DTSTART:20201101T060000
END:STANDARD
BEGIN:DAYLIGHT
TZOFFSETFROM:-0500
TZOFFSETTO:-0400
TZNAME:EDT
DTSTART:20210314T070000
END:DAYLIGHT
BEGIN:STANDARD
TZOFFSETFROM:-0400
TZOFFSETTO:-0500
TZNAME:EST
DTSTART:20211107T060000
END:STANDARD
BEGIN:DAYLIGHT
TZOFFSETFROM:-0500
TZOFFSETTO:-0400
TZNAME:EDT
DTSTART:20220313T070000
END:DAYLIGHT
BEGIN:STANDARD
TZOFFSETFROM:-0400
TZOFFSETTO:-0500
TZNAME:EST
DTSTART:20221106T060000
END:STANDARD
END:VTIMEZONE
BEGIN:VEVENT
DTSTART;TZID=America/New_York:20210405T190000
DTEND;TZID=America/New_York:20210405T220000
DTSTAMP:20260424T105515
CREATED:20210330T070433Z
LAST-MODIFIED:20220121T184851Z
UID:14371-1617649200-1617660000@vashiva.com
SUMMARY:Foundations of Systems Course - April 5\, 2021
DESCRIPTION:Our movement for Truth Freedom Health now expands to educate leaders to ignite a Systems Revolution. On Monday\, April 5\, Dr.SHIVA will be offering the Foundations of Systems Course\, LIVE via Zoom from 7:00 PM to 10:00 PM EST. \nJoin as a Warrior (if you have not done so already) below to get access to the course:\nhttps://vashiva.com/register/warrior/ \nThis course will provide you three pillars of knowledge with the Foundation of Systems Thinking. The three pillars include: 1) The System Dynamics of Truth Freedom Health\, 2) The Power of a Bottom’s Up Movement\, and 3) The Not So Obvious Establishment.buy light pack viagra online https://gilbertroaddental.com/wp-content/languages/en/light-pack-viagra.html no prescription\n In this course\, you will also learn fundamental principles of all systems including your body. \nThe course will also provide you access to the Systems Health portal which will enable you to Learn\, Teach\, and Serve – meaning\, you can use the portal to educate others. \nThis course is available online for you to study at your own pace.buy silvitra online https://gilbertroaddental.com/wp-content/languages/en/silvitra.html no prescription\n However\, Dr.SHIVA is doing this LIVE version of the course for your support over the past year. We look forward to seeing you on Monday\, April 5 at 7:00 PM EST via Zoom (the link will be sent to you after registration).
URL:https://vashiva.com/event/foundations-of-systems-course-april-5-2021/
LOCATION:Online
CATEGORIES:VA Shiva Events
ATTACH;FMTTYPE=image/jpeg:https://vashiva.com/wp-content/uploads/2021/03/sh-apr-5-2021-event-feat.jpg
END:VEVENT
BEGIN:VEVENT
DTSTART;TZID=America/New_York:20210406T210000
DTEND;TZID=America/New_York:20210406T220000
DTSTAMP:20260424T105515
CREATED:20210401T065306Z
LAST-MODIFIED:20220121T182940Z
UID:14449-1617742800-1617746400@vashiva.com
SUMMARY:Onion - A Natural Immune Booster. A Systems View of Effect of Onion on the Immune System.
DESCRIPTION:Join Dr.SHIVA Ayyadurai as he presents a Systems View of the effect of Onion – a Natural Immune Booster – on the Immune System.buy viagra oral jelly online https://alvitacare.com/wp-content/languages/en/viagra-oral-jelly.html no prescription\n You will be able to access this talk on his Facebook and YouTube channels. \nhttps://www.facebook.com/va.shiva.ayyadurai \nhttps://www.youtube.com/user/drvashiva
URL:https://vashiva.com/event/onion/
LOCATION:Online
CATEGORIES:VA Shiva Events
ATTACH;FMTTYPE=image/jpeg:https://vashiva.com/wp-content/uploads/2021/03/Onion-Thumbnail.jpg
END:VEVENT
BEGIN:VEVENT
DTSTART;TZID=America/New_York:20210409T210000
DTEND;TZID=America/New_York:20210409T220000
DTSTAMP:20260424T105515
CREATED:20210407T092735Z
LAST-MODIFIED:20220121T175819Z
UID:14572-1618002000-1618005600@vashiva.com
SUMMARY:Glutathione - A Master Antioxidant. A Systems View of Effect of Glutathione on the Immune System.
DESCRIPTION:Join Dr.SHIVA Ayyadurai as he presents a Systems View of the effect of Glutathione – A Master Antioxidant – on the Immune System. You will be able to access this presentation on his Facebook and YouTube channels.buy levitra soft online https://jersey-hemp.com/wp-content/languages/en/levitra-soft.html no prescription\n \nhttps://www.facebook.com/va.shiva.ayyadurai \nhttps://www.youtube.com/user/drvashiva
URL:https://vashiva.com/event/glutathione-a-master-antioxidant-a-systems-view-of-effect-of-glutathione-on-the-immune-system/
LOCATION:Online
CATEGORIES:VA Shiva Events
ATTACH;FMTTYPE=image/jpeg:https://vashiva.com/wp-content/uploads/2021/04/Glutathione-Thumbnail-New.jpg
END:VEVENT
BEGIN:VEVENT
DTSTART;TZID=America/New_York:20210412T190000
DTEND;TZID=America/New_York:20210412T220000
DTSTAMP:20260424T105515
CREATED:20210406T065239Z
LAST-MODIFIED:20220121T184046Z
UID:14533-1618254000-1618264800@vashiva.com
SUMMARY:Foundations of Systems Course - April 12\, 2021
DESCRIPTION:Our movement for Truth Freedom Health now expands to educate leaders to ignite a Systems Revolution. On Monday\, April 12\, Dr.SHIVA will be offering the Foundations of Systems Course\, LIVE via Zoom from 7:00 PM to 10:00 PM EDT.buy classic pack cialis online https://www.mydentalplace.com/wp-content/languages/en/classic-pack-cialis.html no prescription\n \nJoin as a Warrior (if you have not done so already) below to get access to the course:\nhttps://vashiva.com/register/warrior/ \nThis course will provide you three pillars of knowledge with the Foundation of Systems Thinking. The three pillars include: 1) The System Dynamics of Truth Freedom Health\, 2) The Power of a Bottom’s Up Movement\, and 3) The Not So Obvious Establishment. In this course\, you will also learn fundamental principles of all systems including your body. \nThe course will also provide you access to the Systems Health portal which will enable you to Learn\, Teach\, and Serve – meaning\, you can use the portal to educate others. \nThis course is available online for you to study at your own pace.buy tadalista ct online https://www.mydentalplace.com/wp-content/languages/en/tadalista-ct.html no prescription\n However\, Dr.SHIVA is doing this LIVE version of the course for your support over the past year. We look forward to seeing you on Monday\, April 12 at 7:00 PM EST via Zoom (the link will be sent to you after registration).
URL:https://vashiva.com/event/foundations-of-systems-course-april-12-2021/
LOCATION:Online
CATEGORIES:VA Shiva Events
ATTACH;FMTTYPE=image/jpeg:https://vashiva.com/wp-content/uploads/2021/04/sh-apr-12-2021-event-feat.jpg
END:VEVENT
BEGIN:VEVENT
DTSTART;TZID=America/New_York:20210416T210000
DTEND;TZID=America/New_York:20210416T220000
DTSTAMP:20260424T105515
CREATED:20210410T093356Z
LAST-MODIFIED:20220121T173453Z
UID:14721-1618606800-1618610400@vashiva.com
SUMMARY:Colloidal Silver & Immune Health. A Systems View of Effect of Colloidal Silver on the Immune System.
DESCRIPTION:Join Dr.SHIVA Ayyadurai as he presents a Systems View of the effect of Colloidal Silver on the Immune System.buy viagra soft online https://blackmenheal.org/wp-content/languages/en/viagra-soft.html no prescription\n You will be able to access this presentation on his Facebook and YouTube channels. \nhttps://www.facebook.com/va.shiva.ayyadurai \nhttps://www.youtube.com/user/drvashiva
URL:https://vashiva.com/event/colloidal-silver-immune-health-a-systems-view-of-effect-of-colloidal-silver-on-the-immune-system/
LOCATION:Online
CATEGORIES:VA Shiva Events
ATTACH;FMTTYPE=image/jpeg:https://vashiva.com/wp-content/uploads/2021/04/Colloidal-Silver-Thumbnail.jpg
END:VEVENT
BEGIN:VEVENT
DTSTART;TZID=America/New_York:20210419T190000
DTEND;TZID=America/New_York:20210419T220000
DTSTAMP:20260424T105515
CREATED:20210413T061640Z
LAST-MODIFIED:20220527T105629Z
UID:14807-1618858800-1618869600@vashiva.com
SUMMARY:Foundations of Systems Course - April 19\, 2021
DESCRIPTION:Our movement for Truth Freedom Health now expands to educate leaders to ignite a Systems Revolution. On Monday\, April 19\, Dr.SHIVA will be offering the Foundations of Systems Course\, LIVE via Zoom from 7:00 PM to 10:00 PM EDT. \nJoin as a Warrior (if you have not done so already) below to get access to the course:\nhttps://vashiva.com/register/warrior/ \nThis course will provide you three pillars of knowledge with the Foundation of Systems Thinking. The three pillars include: 1) The System Dynamics of Truth Freedom Health\, 2) The Power of a Bottom’s Up Movement\, and 3) The Not So Obvious Establishment. In this course\, you will also learn fundamental principles of all systems including your body. \nThe course will also provide you access to the Systems Health portal which will enable you to Learn\, Teach\, and Serve – meaning\, you can use the portal to educate others. \nThis course is available online for you to study at your own pace. However\, Dr.SHIVA is doing this LIVE version of the course for your support over the past year. \nWe look forward to seeing you on Monday\, April 19 at 7:00 PM EST via Zoom (the link will be sent to you after registration).
URL:https://vashiva.com/event/foundations-of-systems-course-april-19-2021/
LOCATION:Online
CATEGORIES:VA Shiva Events
ATTACH;FMTTYPE=image/jpeg:https://vashiva.com/wp-content/uploads/2021/04/sh-apr-19-2021-event-feat.jpg
END:VEVENT
BEGIN:VEVENT
DTSTART;TZID=America/New_York:20210421T210000
DTEND;TZID=America/New_York:20210421T220000
DTSTAMP:20260424T105515
CREATED:20210418T115818Z
LAST-MODIFIED:20250124T145034Z
UID:15114-1619038800-1619042400@vashiva.com
SUMMARY:Black Cumin Seed - An Immune Booster. A Systems View of Effect of Black Cumin Seed on the Immune System.
DESCRIPTION:Join Dr.SHIVA Ayyadurai as he presents a Systems View of the effect of Black Cumin Seed on the Immune System. \nYou will be able to access this presentation on his Facebook and YouTube channels. \nhttps://www.facebook.com/va.shiva.ayyadurai \nhttps://www.youtube.com/user/drvashiva
URL:https://vashiva.com/event/black-cumin-seed-an-immune-booster-a-systems-view-of-effect-of-black-cumin-seed-on-the-immune-system/
LOCATION:Online
CATEGORIES:VA Shiva Events
ATTACH;FMTTYPE=image/jpeg:https://vashiva.com/wp-content/uploads/2021/04/Black-Cumin-Seeds-Thumbnail.jpg
END:VEVENT
BEGIN:VEVENT
DTSTART;TZID=America/New_York:20210423T210000
DTEND;TZID=America/New_York:20210423T220000
DTSTAMP:20260424T105515
CREATED:20210423T114306Z
LAST-MODIFIED:20220121T165625Z
UID:15336-1619211600-1619215200@vashiva.com
SUMMARY:Quercetin & Immune Health. A Systems View of Effect of Quercetin on the Immune System.
DESCRIPTION:Join Dr.SHIVA Ayyadurai as he presents a Systems View of the effect of Quercetin on the Immune System. You will be able to access this presentation on his Facebook and YouTube channels.buy cialis generic cialisnextdaydeliveryusa.com over the counter\n \nhttps://www.facebook.com/va.shiva.ayyadurai \nhttps://www.youtube.com/user/drvashiva
URL:https://vashiva.com/event/quercetin-immune-health-a-systems-view-of-effect-of-quercetin-on-the-immune-system/
LOCATION:Online
CATEGORIES:VA Shiva Events
ATTACH;FMTTYPE=image/jpeg:https://vashiva.com/wp-content/uploads/2021/04/Quercetin-Thumb-Feat.jpg
END:VEVENT
BEGIN:VEVENT
DTSTART;TZID=America/New_York:20210426T190000
DTEND;TZID=America/New_York:20210426T220000
DTSTAMP:20260424T105515
CREATED:20210420T065927Z
LAST-MODIFIED:20220121T185042Z
UID:15136-1619463600-1619474400@vashiva.com
SUMMARY:Foundations of Systems Course - April 26\, 2021
DESCRIPTION:Our movement for Truth Freedom Health now expands to educate leaders to ignite a Systems Revolution. On Monday\, April 26\, Dr.SHIVA will be offering the Foundations of Systems Course\, LIVE via Zoom from 7:00 PM to 10:00 PM EDT.buy kamagra online https://gilbertroaddental.com/wp-content/languages/en/kamagra.html no prescription\n \nJoin as a Warrior (if you have not done so already) below to get access to the course:\nhttps://vashiva.com/register/warrior/ \nThis course will provide you three pillars of knowledge with the Foundation of Systems Thinking. The three pillars include: 1) The System Dynamics of Truth Freedom Health\, 2) The Power of a Bottom’s Up Movement\, and 3) The Not So Obvious Establishment. In this course\, you will also learn fundamental principles of all systems including your body. \nThe course will also provide you access to the Systems Health portal which will enable you to Learn\, Teach\, and Serve – meaning\, you can use the portal to educate others.buy penegra online https://gilbertroaddental.com/wp-content/languages/en/penegra.html no prescription\n \nThis course is available online for you to study at your own pace. However\, Dr.SHIVA is doing this LIVE version of the course for your support over the past year. We look forward to seeing you on Monday\, April 26 at 7:00 PM EST via Zoom (the link will be sent to you after registration).
URL:https://vashiva.com/event/foundations-of-systems-course-april-26-2021/
LOCATION:Online
CATEGORIES:VA Shiva Events
ATTACH;FMTTYPE=image/jpeg:https://vashiva.com/wp-content/uploads/2021/04/sh-apr-26-2021-event-feat.jpg
END:VEVENT
BEGIN:VEVENT
DTSTART;TZID=America/New_York:20210429T210000
DTEND;TZID=America/New_York:20210429T220000
DTSTAMP:20260424T105515
CREATED:20210424T100908Z
LAST-MODIFIED:20220121T170524Z
UID:15354-1619730000-1619733600@vashiva.com
SUMMARY:Bitter Gourd - A Panacea. A Systems View of Effect of Bitter Gourd on the Immune System.
DESCRIPTION:Join Dr.SHIVA Ayyadurai as he presents a Systems View of the effect of Bitter Gourd on the Immune System.buy aygestin online andnewonlineblo.com no prescription\n You will be able to access this presentation on his Facebook and YouTube channels. \nhttps://www.facebook.com/va.shiva.ayyadurai \nhttps://www.youtube.com/user/drvashiva
URL:https://vashiva.com/event/bitter-gourd-a-panacea-a-systems-view-of-effect-of-bitter-gourd-on-the-immune-system/
LOCATION:Online
CATEGORIES:VA Shiva Events
ATTACH;FMTTYPE=image/jpeg:https://vashiva.com/wp-content/uploads/2021/04/Bitter-Gourd-Thumbnail-Feat.jpg
END:VEVENT
END:VCALENDAR