BEGIN:VCALENDAR
VERSION:2.0
PRODID:-//VASHIVA - ECPv6.15.12.1//NONSGML v1.0//EN
CALSCALE:GREGORIAN
METHOD:PUBLISH
X-WR-CALNAME:VASHIVA
X-ORIGINAL-URL:https://vashiva.com
X-WR-CALDESC:Events for VASHIVA
REFRESH-INTERVAL;VALUE=DURATION:PT1H
X-Robots-Tag:noindex
X-PUBLISHED-TTL:PT1H
BEGIN:VTIMEZONE
TZID:America/New_York
BEGIN:DAYLIGHT
TZOFFSETFROM:-0500
TZOFFSETTO:-0400
TZNAME:EDT
DTSTART:19690427T070000
END:DAYLIGHT
BEGIN:STANDARD
TZOFFSETFROM:-0400
TZOFFSETTO:-0500
TZNAME:EST
DTSTART:19691026T060000
END:STANDARD
BEGIN:DAYLIGHT
TZOFFSETFROM:-0500
TZOFFSETTO:-0400
TZNAME:EDT
DTSTART:19700426T070000
END:DAYLIGHT
BEGIN:STANDARD
TZOFFSETFROM:-0400
TZOFFSETTO:-0500
TZNAME:EST
DTSTART:19701025T060000
END:STANDARD
BEGIN:DAYLIGHT
TZOFFSETFROM:-0500
TZOFFSETTO:-0400
TZNAME:EDT
DTSTART:19710425T070000
END:DAYLIGHT
BEGIN:STANDARD
TZOFFSETFROM:-0400
TZOFFSETTO:-0500
TZNAME:EST
DTSTART:19711031T060000
END:STANDARD
BEGIN:DAYLIGHT
TZOFFSETFROM:-0500
TZOFFSETTO:-0400
TZNAME:EDT
DTSTART:19720430T070000
END:DAYLIGHT
BEGIN:STANDARD
TZOFFSETFROM:-0400
TZOFFSETTO:-0500
TZNAME:EST
DTSTART:19721029T060000
END:STANDARD
BEGIN:DAYLIGHT
TZOFFSETFROM:-0500
TZOFFSETTO:-0400
TZNAME:EDT
DTSTART:19730429T070000
END:DAYLIGHT
BEGIN:STANDARD
TZOFFSETFROM:-0400
TZOFFSETTO:-0500
TZNAME:EST
DTSTART:19731028T060000
END:STANDARD
BEGIN:DAYLIGHT
TZOFFSETFROM:-0500
TZOFFSETTO:-0400
TZNAME:EDT
DTSTART:19740106T070000
END:DAYLIGHT
BEGIN:STANDARD
TZOFFSETFROM:-0400
TZOFFSETTO:-0500
TZNAME:EST
DTSTART:19741027T060000
END:STANDARD
BEGIN:DAYLIGHT
TZOFFSETFROM:-0500
TZOFFSETTO:-0400
TZNAME:EDT
DTSTART:19750223T070000
END:DAYLIGHT
BEGIN:STANDARD
TZOFFSETFROM:-0400
TZOFFSETTO:-0500
TZNAME:EST
DTSTART:19751026T060000
END:STANDARD
BEGIN:DAYLIGHT
TZOFFSETFROM:-0500
TZOFFSETTO:-0400
TZNAME:EDT
DTSTART:19760425T070000
END:DAYLIGHT
BEGIN:STANDARD
TZOFFSETFROM:-0400
TZOFFSETTO:-0500
TZNAME:EST
DTSTART:19761031T060000
END:STANDARD
BEGIN:DAYLIGHT
TZOFFSETFROM:-0500
TZOFFSETTO:-0400
TZNAME:EDT
DTSTART:19770424T070000
END:DAYLIGHT
BEGIN:STANDARD
TZOFFSETFROM:-0400
TZOFFSETTO:-0500
TZNAME:EST
DTSTART:19771030T060000
END:STANDARD
BEGIN:DAYLIGHT
TZOFFSETFROM:-0500
TZOFFSETTO:-0400
TZNAME:EDT
DTSTART:19780430T070000
END:DAYLIGHT
BEGIN:STANDARD
TZOFFSETFROM:-0400
TZOFFSETTO:-0500
TZNAME:EST
DTSTART:19781029T060000
END:STANDARD
BEGIN:DAYLIGHT
TZOFFSETFROM:-0500
TZOFFSETTO:-0400
TZNAME:EDT
DTSTART:19790429T070000
END:DAYLIGHT
BEGIN:STANDARD
TZOFFSETFROM:-0400
TZOFFSETTO:-0500
TZNAME:EST
DTSTART:19791028T060000
END:STANDARD
BEGIN:DAYLIGHT
TZOFFSETFROM:-0500
TZOFFSETTO:-0400
TZNAME:EDT
DTSTART:19800427T070000
END:DAYLIGHT
BEGIN:STANDARD
TZOFFSETFROM:-0400
TZOFFSETTO:-0500
TZNAME:EST
DTSTART:19801026T060000
END:STANDARD
BEGIN:DAYLIGHT
TZOFFSETFROM:-0500
TZOFFSETTO:-0400
TZNAME:EDT
DTSTART:19810426T070000
END:DAYLIGHT
BEGIN:STANDARD
TZOFFSETFROM:-0400
TZOFFSETTO:-0500
TZNAME:EST
DTSTART:19811025T060000
END:STANDARD
BEGIN:DAYLIGHT
TZOFFSETFROM:-0500
TZOFFSETTO:-0400
TZNAME:EDT
DTSTART:19820425T070000
END:DAYLIGHT
BEGIN:STANDARD
TZOFFSETFROM:-0400
TZOFFSETTO:-0500
TZNAME:EST
DTSTART:19821031T060000
END:STANDARD
BEGIN:DAYLIGHT
TZOFFSETFROM:-0500
TZOFFSETTO:-0400
TZNAME:EDT
DTSTART:19830424T070000
END:DAYLIGHT
BEGIN:STANDARD
TZOFFSETFROM:-0400
TZOFFSETTO:-0500
TZNAME:EST
DTSTART:19831030T060000
END:STANDARD
BEGIN:DAYLIGHT
TZOFFSETFROM:-0500
TZOFFSETTO:-0400
TZNAME:EDT
DTSTART:19840429T070000
END:DAYLIGHT
BEGIN:STANDARD
TZOFFSETFROM:-0400
TZOFFSETTO:-0500
TZNAME:EST
DTSTART:19841028T060000
END:STANDARD
BEGIN:DAYLIGHT
TZOFFSETFROM:-0500
TZOFFSETTO:-0400
TZNAME:EDT
DTSTART:19850428T070000
END:DAYLIGHT
BEGIN:STANDARD
TZOFFSETFROM:-0400
TZOFFSETTO:-0500
TZNAME:EST
DTSTART:19851027T060000
END:STANDARD
BEGIN:DAYLIGHT
TZOFFSETFROM:-0500
TZOFFSETTO:-0400
TZNAME:EDT
DTSTART:19860427T070000
END:DAYLIGHT
BEGIN:STANDARD
TZOFFSETFROM:-0400
TZOFFSETTO:-0500
TZNAME:EST
DTSTART:19861026T060000
END:STANDARD
BEGIN:DAYLIGHT
TZOFFSETFROM:-0500
TZOFFSETTO:-0400
TZNAME:EDT
DTSTART:19870405T070000
END:DAYLIGHT
BEGIN:STANDARD
TZOFFSETFROM:-0400
TZOFFSETTO:-0500
TZNAME:EST
DTSTART:19871025T060000
END:STANDARD
BEGIN:DAYLIGHT
TZOFFSETFROM:-0500
TZOFFSETTO:-0400
TZNAME:EDT
DTSTART:19880403T070000
END:DAYLIGHT
BEGIN:STANDARD
TZOFFSETFROM:-0400
TZOFFSETTO:-0500
TZNAME:EST
DTSTART:19881030T060000
END:STANDARD
BEGIN:DAYLIGHT
TZOFFSETFROM:-0500
TZOFFSETTO:-0400
TZNAME:EDT
DTSTART:19890402T070000
END:DAYLIGHT
BEGIN:STANDARD
TZOFFSETFROM:-0400
TZOFFSETTO:-0500
TZNAME:EST
DTSTART:19891029T060000
END:STANDARD
BEGIN:DAYLIGHT
TZOFFSETFROM:-0500
TZOFFSETTO:-0400
TZNAME:EDT
DTSTART:19900401T070000
END:DAYLIGHT
BEGIN:STANDARD
TZOFFSETFROM:-0400
TZOFFSETTO:-0500
TZNAME:EST
DTSTART:19901028T060000
END:STANDARD
BEGIN:DAYLIGHT
TZOFFSETFROM:-0500
TZOFFSETTO:-0400
TZNAME:EDT
DTSTART:19910407T070000
END:DAYLIGHT
BEGIN:STANDARD
TZOFFSETFROM:-0400
TZOFFSETTO:-0500
TZNAME:EST
DTSTART:19911027T060000
END:STANDARD
BEGIN:DAYLIGHT
TZOFFSETFROM:-0500
TZOFFSETTO:-0400
TZNAME:EDT
DTSTART:19920405T070000
END:DAYLIGHT
BEGIN:STANDARD
TZOFFSETFROM:-0400
TZOFFSETTO:-0500
TZNAME:EST
DTSTART:19921025T060000
END:STANDARD
BEGIN:DAYLIGHT
TZOFFSETFROM:-0500
TZOFFSETTO:-0400
TZNAME:EDT
DTSTART:19930404T070000
END:DAYLIGHT
BEGIN:STANDARD
TZOFFSETFROM:-0400
TZOFFSETTO:-0500
TZNAME:EST
DTSTART:19931031T060000
END:STANDARD
BEGIN:DAYLIGHT
TZOFFSETFROM:-0500
TZOFFSETTO:-0400
TZNAME:EDT
DTSTART:19940403T070000
END:DAYLIGHT
BEGIN:STANDARD
TZOFFSETFROM:-0400
TZOFFSETTO:-0500
TZNAME:EST
DTSTART:19941030T060000
END:STANDARD
BEGIN:DAYLIGHT
TZOFFSETFROM:-0500
TZOFFSETTO:-0400
TZNAME:EDT
DTSTART:19950402T070000
END:DAYLIGHT
BEGIN:STANDARD
TZOFFSETFROM:-0400
TZOFFSETTO:-0500
TZNAME:EST
DTSTART:19951029T060000
END:STANDARD
BEGIN:DAYLIGHT
TZOFFSETFROM:-0500
TZOFFSETTO:-0400
TZNAME:EDT
DTSTART:19960407T070000
END:DAYLIGHT
BEGIN:STANDARD
TZOFFSETFROM:-0400
TZOFFSETTO:-0500
TZNAME:EST
DTSTART:19961027T060000
END:STANDARD
BEGIN:DAYLIGHT
TZOFFSETFROM:-0500
TZOFFSETTO:-0400
TZNAME:EDT
DTSTART:19970406T070000
END:DAYLIGHT
BEGIN:STANDARD
TZOFFSETFROM:-0400
TZOFFSETTO:-0500
TZNAME:EST
DTSTART:19971026T060000
END:STANDARD
BEGIN:DAYLIGHT
TZOFFSETFROM:-0500
TZOFFSETTO:-0400
TZNAME:EDT
DTSTART:19980405T070000
END:DAYLIGHT
BEGIN:STANDARD
TZOFFSETFROM:-0400
TZOFFSETTO:-0500
TZNAME:EST
DTSTART:19981025T060000
END:STANDARD
BEGIN:DAYLIGHT
TZOFFSETFROM:-0500
TZOFFSETTO:-0400
TZNAME:EDT
DTSTART:19990404T070000
END:DAYLIGHT
BEGIN:STANDARD
TZOFFSETFROM:-0400
TZOFFSETTO:-0500
TZNAME:EST
DTSTART:19991031T060000
END:STANDARD
BEGIN:DAYLIGHT
TZOFFSETFROM:-0500
TZOFFSETTO:-0400
TZNAME:EDT
DTSTART:20000402T070000
END:DAYLIGHT
BEGIN:STANDARD
TZOFFSETFROM:-0400
TZOFFSETTO:-0500
TZNAME:EST
DTSTART:20001029T060000
END:STANDARD
BEGIN:DAYLIGHT
TZOFFSETFROM:-0500
TZOFFSETTO:-0400
TZNAME:EDT
DTSTART:20010401T070000
END:DAYLIGHT
BEGIN:STANDARD
TZOFFSETFROM:-0400
TZOFFSETTO:-0500
TZNAME:EST
DTSTART:20011028T060000
END:STANDARD
BEGIN:DAYLIGHT
TZOFFSETFROM:-0500
TZOFFSETTO:-0400
TZNAME:EDT
DTSTART:20020407T070000
END:DAYLIGHT
BEGIN:STANDARD
TZOFFSETFROM:-0400
TZOFFSETTO:-0500
TZNAME:EST
DTSTART:20021027T060000
END:STANDARD
BEGIN:DAYLIGHT
TZOFFSETFROM:-0500
TZOFFSETTO:-0400
TZNAME:EDT
DTSTART:20030406T070000
END:DAYLIGHT
BEGIN:STANDARD
TZOFFSETFROM:-0400
TZOFFSETTO:-0500
TZNAME:EST
DTSTART:20031026T060000
END:STANDARD
BEGIN:DAYLIGHT
TZOFFSETFROM:-0500
TZOFFSETTO:-0400
TZNAME:EDT
DTSTART:20040404T070000
END:DAYLIGHT
BEGIN:STANDARD
TZOFFSETFROM:-0400
TZOFFSETTO:-0500
TZNAME:EST
DTSTART:20041031T060000
END:STANDARD
BEGIN:DAYLIGHT
TZOFFSETFROM:-0500
TZOFFSETTO:-0400
TZNAME:EDT
DTSTART:20050403T070000
END:DAYLIGHT
BEGIN:STANDARD
TZOFFSETFROM:-0400
TZOFFSETTO:-0500
TZNAME:EST
DTSTART:20051030T060000
END:STANDARD
BEGIN:DAYLIGHT
TZOFFSETFROM:-0500
TZOFFSETTO:-0400
TZNAME:EDT
DTSTART:20060402T070000
END:DAYLIGHT
BEGIN:STANDARD
TZOFFSETFROM:-0400
TZOFFSETTO:-0500
TZNAME:EST
DTSTART:20061029T060000
END:STANDARD
BEGIN:DAYLIGHT
TZOFFSETFROM:-0500
TZOFFSETTO:-0400
TZNAME:EDT
DTSTART:20070311T070000
END:DAYLIGHT
BEGIN:STANDARD
TZOFFSETFROM:-0400
TZOFFSETTO:-0500
TZNAME:EST
DTSTART:20071104T060000
END:STANDARD
BEGIN:DAYLIGHT
TZOFFSETFROM:-0500
TZOFFSETTO:-0400
TZNAME:EDT
DTSTART:20080309T070000
END:DAYLIGHT
BEGIN:STANDARD
TZOFFSETFROM:-0400
TZOFFSETTO:-0500
TZNAME:EST
DTSTART:20081102T060000
END:STANDARD
BEGIN:DAYLIGHT
TZOFFSETFROM:-0500
TZOFFSETTO:-0400
TZNAME:EDT
DTSTART:20090308T070000
END:DAYLIGHT
BEGIN:STANDARD
TZOFFSETFROM:-0400
TZOFFSETTO:-0500
TZNAME:EST
DTSTART:20091101T060000
END:STANDARD
BEGIN:DAYLIGHT
TZOFFSETFROM:-0500
TZOFFSETTO:-0400
TZNAME:EDT
DTSTART:20100314T070000
END:DAYLIGHT
BEGIN:STANDARD
TZOFFSETFROM:-0400
TZOFFSETTO:-0500
TZNAME:EST
DTSTART:20101107T060000
END:STANDARD
BEGIN:DAYLIGHT
TZOFFSETFROM:-0500
TZOFFSETTO:-0400
TZNAME:EDT
DTSTART:20110313T070000
END:DAYLIGHT
BEGIN:STANDARD
TZOFFSETFROM:-0400
TZOFFSETTO:-0500
TZNAME:EST
DTSTART:20111106T060000
END:STANDARD
BEGIN:DAYLIGHT
TZOFFSETFROM:-0500
TZOFFSETTO:-0400
TZNAME:EDT
DTSTART:20120311T070000
END:DAYLIGHT
BEGIN:STANDARD
TZOFFSETFROM:-0400
TZOFFSETTO:-0500
TZNAME:EST
DTSTART:20121104T060000
END:STANDARD
BEGIN:DAYLIGHT
TZOFFSETFROM:-0500
TZOFFSETTO:-0400
TZNAME:EDT
DTSTART:20130310T070000
END:DAYLIGHT
BEGIN:STANDARD
TZOFFSETFROM:-0400
TZOFFSETTO:-0500
TZNAME:EST
DTSTART:20131103T060000
END:STANDARD
BEGIN:DAYLIGHT
TZOFFSETFROM:-0500
TZOFFSETTO:-0400
TZNAME:EDT
DTSTART:20140309T070000
END:DAYLIGHT
BEGIN:STANDARD
TZOFFSETFROM:-0400
TZOFFSETTO:-0500
TZNAME:EST
DTSTART:20141102T060000
END:STANDARD
BEGIN:DAYLIGHT
TZOFFSETFROM:-0500
TZOFFSETTO:-0400
TZNAME:EDT
DTSTART:20150308T070000
END:DAYLIGHT
BEGIN:STANDARD
TZOFFSETFROM:-0400
TZOFFSETTO:-0500
TZNAME:EST
DTSTART:20151101T060000
END:STANDARD
BEGIN:DAYLIGHT
TZOFFSETFROM:-0500
TZOFFSETTO:-0400
TZNAME:EDT
DTSTART:20160313T070000
END:DAYLIGHT
BEGIN:STANDARD
TZOFFSETFROM:-0400
TZOFFSETTO:-0500
TZNAME:EST
DTSTART:20161106T060000
END:STANDARD
BEGIN:DAYLIGHT
TZOFFSETFROM:-0500
TZOFFSETTO:-0400
TZNAME:EDT
DTSTART:20170312T070000
END:DAYLIGHT
BEGIN:STANDARD
TZOFFSETFROM:-0400
TZOFFSETTO:-0500
TZNAME:EST
DTSTART:20171105T060000
END:STANDARD
END:VTIMEZONE
BEGIN:VEVENT
DTSTART;TZID=America/New_York:20260419T212522
DTEND;TZID=America/New_York:20160920T180000
DTSTAMP:20260419T212522
CREATED:20160523T123012Z
LAST-MODIFIED:20220121T172115Z
UID:6252-0-1474394400@vashiva.com
SUMMARY:Seminar at  College of Pharmacy\, University of Florida: Making a Difference in the World
DESCRIPTION:Dr. V.A. Shiva Ayyadurai will be speaking at the College of Pharmacy\, University of Florida on Tuesday September 20\, 2016.buy sildenafil citrate vardenafil online https://www.mabvi.org/wp-content/languages/en/sildenafil-citrate-vardenafil.html no prescription\n His presentation will focus on Systems Thinking \, how it can make a difference in the world\, and how thinking outside the box can be helpful.buy viagra black online https://www.mabvi.org/wp-content/languages/en/viagra-black.html no prescription\n The seminar will attended mainly by faculty\, graduate students and post-doctorates\, but is open to all. There will be a reception immediately following the event.
URL:https://vashiva.com/event/seminar-at-college-of-pharmacy-university-of-florida-making-a-difference-in-the-world/
LOCATION:College of Pharmacy\, University of Florida\, 1225 Center Drive\, Gainesville\, FL\, 32611\, United States
CATEGORIES:VA Shiva Events
ATTACH;FMTTYPE=image/jpeg:https://vashiva.com/wp-content/uploads/2020/01/ufl-making-a-difference.jpg
END:VEVENT
BEGIN:VEVENT
DTSTART;TZID=America/New_York:20130402T120000
DTEND;TZID=America/New_York:20130402T130000
DTSTAMP:20260419T212522
CREATED:20150609T181222Z
LAST-MODIFIED:20200130T115731Z
UID:6548-1364904000-1364907600@vashiva.com
SUMMARY:Systems Health LIVE Webinar
DESCRIPTION:Dr. V.A. Shiva Ayyadurai presents a live webinar to explain and answer questions regarding the Systems VA Shiva presents a live webinar to explain and answer questions regarding the Systems Health™ program. \nScholarship pricing of $995 will be available to anyone who participates in one of these webinars. Regular price for a Systems Health course is $2\,025!\nwww.systemshealth.com\nwww.vashiva.com
URL:https://vashiva.com/event/systems-health-live-webinar/
LOCATION:Online
END:VEVENT
BEGIN:VEVENT
DTSTART;TZID=America/New_York:20130406T153000
DTEND;TZID=America/New_York:20130406T163000
DTSTAMP:20260419T212522
CREATED:20150609T180809Z
LAST-MODIFIED:20200204T102631Z
UID:6545-1365262200-1365265800@vashiva.com
SUMMARY:Systems Health LIVE Webinar
DESCRIPTION:Dr. V.A. Shiva Ayyadurai presents a live webinar to explain and answer questions regarding the Systems Health™ program. \nParticipants will receive special scholarship pricing of $995 for the entire Systems Health™ course series. Regular price is $2\,025!\nwww.systemshealth.com\nwww.vashiva.com
URL:https://vashiva.com/event/systems-health-live-webinar-2/
LOCATION:Online
END:VEVENT
BEGIN:VEVENT
DTSTART;TZID=America/New_York:20130409T160000
DTEND;TZID=America/New_York:20130409T180000
DTSTAMP:20260419T212522
CREATED:20150609T175727Z
LAST-MODIFIED:20200204T104106Z
UID:6543-1365523200-1365530400@vashiva.com
SUMMARY:A Revolution in Medical Education – Seminar\, Uniformed Services University of the Health Sciences Seminar
DESCRIPTION:Dr. V.A. Shiva Ayyadurai will present a seminar ¨A Revolution in Medical Education¨ to  the Consortium for Health and Military Performance (CHAMP) at the Uniformed Services University of the Health Sciences (USU). \n  \nCHAMP is a medical resource for the U.S. Department of Defense focuses on the health and performance of the warfighter. Graduates of the USU School of Medicine earn a medical degree and receive a commission as captain in the Army Medical Corps. \nhttp://www.usuhs.mil/ \nhttp://www.usuhs.edu/calendar/april.html \nhttp://www.usuhs.edu/mem/champ.html
URL:https://vashiva.com/event/a-revolution-in-medical-education-seminar-uniformed-services-university-of-the-health-sciences-seminar/
END:VEVENT
BEGIN:VEVENT
DTSTART;TZID=America/New_York:20130413T153000
DTEND;TZID=America/New_York:20130413T163000
DTSTAMP:20260419T212522
CREATED:20150609T180210Z
LAST-MODIFIED:20200204T104837Z
UID:6541-1365867000-1365870600@vashiva.com
SUMMARY:Systems Health LIVE Webinar
DESCRIPTION:Dr. V.A. Shiva Ayyadurai presents a free live webinar to explain and answer questions regarding the Systems Health™ program. \nParticipants will receive special scholarship pricing of $995 for the entire Systems Health™ course series. Regular price is $2\,025!\nwww.systemshealth.com\nwww.vashiva.com
URL:https://vashiva.com/event/systems-health-live-webinar-3/
LOCATION:Online
END:VEVENT
BEGIN:VEVENT
DTSTART;TZID=America/New_York:20130414T113000
DTEND;TZID=America/New_York:20130414T123000
DTSTAMP:20260419T212522
CREATED:20150609T174336Z
LAST-MODIFIED:20220121T163504Z
UID:6539-1365939000-1365942600@vashiva.com
SUMMARY:Are You Ready to Build a Revolution?
DESCRIPTION:Dr. V.A. Shiva Ayyadurai will present the third Webinar in the series ¨Are You Ready to Build a Revolution?” \nThe Webinar will be which will be broadcast LIVE on VASHIVA UStream Channel\, and will later be posted to VA Shiva’s YouTube Channel. \nThe webinar will take place Sunday\, April 14\, 2013 at  at 11:30am (EST).buy ivermectin generic gaetzpharmacy.com no prescription\n \nAdditional Reading: \nVA Shiva’s 7 Principles of a Successful Revolution\nInnovation Demands Freedom \nPast Webinars: \nImperialism and the Feudal Lords of Tamil Nadu: The Real Oppressors of the Tamil People
URL:https://vashiva.com/event/va-shiva-webinar-organizing-a-revolutionary-movement-to-change-the-world/
LOCATION:Online
END:VEVENT
BEGIN:VEVENT
DTSTART;TZID=America/New_York:20130415T113000
DTEND;TZID=America/New_York:20130415T123000
DTSTAMP:20260419T212522
CREATED:20200124T143218Z
LAST-MODIFIED:20220121T172414Z
UID:6537-1366025400-1366029000@vashiva.com
SUMMARY:VA Shiva LIVE Webinar Series – Innovation Corps
DESCRIPTION:Dr. V.A. Shiva Ayyadurai\, the Inventor of Email\, discusses how Innovation Corps aims to proactively unleash innovation in inner cities\, around the globe.buy super kamagra online https://www.mabvi.org/wp-content/languages/en/super-kamagra.html no prescription\n \nThe webinar will take place Monday\, April 15\, 2013 at  at 11:30am (EST)\, and will be broadcast on VASHIVA UStream Channel. \nSuggested Reading: \nVA Shiva Launches Innovation Corps. \nInnovation Any Time\, Any Where\, by Anybody \nInnovationcorps.org
URL:https://vashiva.com/event/va-shiva-live-webinar-series-innovation-corps/
LOCATION:Online
END:VEVENT
BEGIN:VEVENT
DTSTART;TZID=America/New_York:20130417T113000
DTEND;TZID=America/New_York:20130417T123000
DTSTAMP:20260419T212522
CREATED:20150609T173812Z
LAST-MODIFIED:20220121T184922Z
UID:6535-1366198200-1366201800@vashiva.com
SUMMARY:Email & Social Media LIVE Webinar Series
DESCRIPTION:V.A. Shiva Ayyadurai\, the Inventor of Email\, provides insight into email and how it relates to other social media such as Facebook and Twitter.buy viagra super active online https://gilbertroaddental.com/wp-content/languages/en/viagra-super-active.html no prescription\n \n \nThe webinar will take place Wednesday\, April 17\, 2013 at  at 11:30am (EST)\, and will be broadcast on VASHIVA UStream Channel. \nSuggested Reading:\nEmail Meets Social Media
URL:https://vashiva.com/event/email-social-media-live-webinar-series/
LOCATION:Online
END:VEVENT
BEGIN:VEVENT
DTSTART;TZID=America/New_York:20130420T090000
DTEND;TZID=America/New_York:20130420T120000
DTSTAMP:20260419T212522
CREATED:20150609T144036Z
LAST-MODIFIED:20200204T115106Z
UID:6533-1366448400-1366459200@vashiva.com
SUMMARY:Dr. V.A. Shiva Ayyadurai to be Honored by Sastha Tamil Foundation (STF)
DESCRIPTION:Poster circulated by Sastha Tamil Foundation for the event honoring VA Shiva Ayyadurai\n  \nDr. V.A. Shiva Ayyadurai is to be honored by the Sastha Tamil Foundation on April 20\, 2013 for his contribution to science and technology\, the invention of email and for advancing and Tamil culture. \nஇமெயில் கண்டுபிடித்த தமிழர் சிவா அய்யாதுரை குறித்த தகவல்கள் \nhttp://en.wikipedia.org/wiki/Shiva_Ayyadurai\nhttp://inventorofemail.com/ \nடல்லாஸ் நகரில் உங்களை நேரில் சந்திக்க வருகிறார். ப்ளேனோ தமிழ்ப் பள்ளி 12ம் ஆண்டுவிழாவில் கலந்து கொள்ளுங்கள்.
URL:https://vashiva.com/event/sastha-tamil-foundation-stf/
END:VEVENT
BEGIN:VEVENT
DTSTART;TZID=America/New_York:20130420T153000
DTEND;TZID=America/New_York:20130420T163000
DTSTAMP:20260419T212522
CREATED:20150609T150253Z
LAST-MODIFIED:20200130T140654Z
UID:6531-1366471800-1366475400@vashiva.com
SUMMARY:Systems Health™ LIVE Webinar
DESCRIPTION:Dr. V.A. Shiva Ayyadurai presents a live webinar to explain and answer questions regarding the Systems Health™ course series. \nJoin the meeting: https://join.me/systemshealth\nApril 20\, 2013 @ 11:30 am – 12:30 pm (EST)\nShow start time by time zones \nOn PC or Mac\, use any browser with Flash. Nothing to download.\nOn a phone or tablet\, launch the join.me app and enter meeting code: systemshealth \nJoin the audio conference: \nNo matter how you join the conference\, everyone will be on the same audio call. \nBy phone: \n1) Dial +1.862.367.5900 (United States) Dialing from another country? Check our international numbers. *\n2) Enter conference ID: 386-051-231# \nFor further reading:\nwww.systemshealth.com\nwww.vashiva.com
URL:https://vashiva.com/event/systems-health-live-webinar-4/
LOCATION:Online
END:VEVENT
BEGIN:VEVENT
DTSTART;VALUE=DATE:20130423
DTEND;VALUE=DATE:20130425
DTSTAMP:20260419T212522
CREATED:20150609T145637Z
LAST-MODIFIED:20200204T121337Z
UID:6529-1366675200-1366847999@vashiva.com
SUMMARY:PostalVision 2020-3.0 – “Positioning America for the New Millennium”
DESCRIPTION:Building on previous PostalVision 2020 Conferences that focused first on the impact of “Digital Disruptive Innovation” in the postal ecosystem\, and then on “Platform Possibilities” for USPS\, PostalVision 2020/3.0 will explore as its next step\, “Positioning America for the New Millennium” in a constructive approach to re-inventing today’s broken Postal Service model for future generations. \n“Positioning America for the New Millennium” will begin with a world view of the 21st Century. Don’t miss the Innovation Feature from V.A. Shiva Ayyadurai\, MIT & ICIS. With the recent announcements from USPS\, action is being taken to resolve its untenable financial situation. Be sure to join this important event to hear\, and contribute to\, the potential solutions for the American postal ecosystem. \nAgenda: http://www.cvent.com/events/postalvision-2020-3-0-positioning-america-for-the-new-millennium-/agenda-fa8c8f5f91004c0498bae2a66b8f2530.aspx \nDr. V.A. Shiva Ayyadurai on PostalVision website: http://www.postalvision2020.com/v-a-shiva-ayyadurai/
URL:https://vashiva.com/event/postalvision-2020-3-0-positioning-america-for-the-new-millennium/
LOCATION:L’Enfant Plaza Hotel\, 480 L'Enfant Plaza SW\, Washington\, DC\, 20024\, United States
END:VEVENT
END:VCALENDAR