BEGIN:VCALENDAR
VERSION:2.0
PRODID:-//VASHIVA - ECPv6.15.12.1//NONSGML v1.0//EN
CALSCALE:GREGORIAN
METHOD:PUBLISH
X-WR-CALNAME:VASHIVA
X-ORIGINAL-URL:https://vashiva.com
X-WR-CALDESC:Events for VASHIVA
REFRESH-INTERVAL;VALUE=DURATION:PT1H
X-Robots-Tag:noindex
X-PUBLISHED-TTL:PT1H
BEGIN:VTIMEZONE
TZID:America/New_York
BEGIN:DAYLIGHT
TZOFFSETFROM:-0500
TZOFFSETTO:-0400
TZNAME:EDT
DTSTART:20250309T070000
END:DAYLIGHT
BEGIN:STANDARD
TZOFFSETFROM:-0400
TZOFFSETTO:-0500
TZNAME:EST
DTSTART:20251102T060000
END:STANDARD
BEGIN:DAYLIGHT
TZOFFSETFROM:-0500
TZOFFSETTO:-0400
TZNAME:EDT
DTSTART:20260308T070000
END:DAYLIGHT
BEGIN:STANDARD
TZOFFSETFROM:-0400
TZOFFSETTO:-0500
TZNAME:EST
DTSTART:20261101T060000
END:STANDARD
BEGIN:DAYLIGHT
TZOFFSETFROM:-0500
TZOFFSETTO:-0400
TZNAME:EDT
DTSTART:20270314T070000
END:DAYLIGHT
BEGIN:STANDARD
TZOFFSETFROM:-0400
TZOFFSETTO:-0500
TZNAME:EST
DTSTART:20271107T060000
END:STANDARD
END:VTIMEZONE
BEGIN:VEVENT
DTSTART;TZID=America/New_York:20260123T080000
DTEND;TZID=America/New_York:20260125T160000
DTSTAMP:20260419T155254
CREATED:20251025T115216Z
LAST-MODIFIED:20251025T115230Z
UID:60299-1769155200-1769356800@vashiva.com
SUMMARY:Dr.SHIVA® SYSTEMS HEALTH® LIVE COURSES\, Jan 23-25\, 2026
DESCRIPTION:THE SYSTEMS HEALTH® EDUCATIONAL TECHNOLOGY PROGRAM \n\n\n\nThe educational technology of Systems Health® consists of both Certification Programs and Workshops\, which are taught by Dr.SHIVA® and his team of Systems Health® professionals. \n\n\n\nThe Live Courses provide Dr.SHIVA® Systems Anatomy\, Dr.SHIVA® Your Body Your System® and Dr.SHIVA® Your Business Your System™ education of Theory\, Laboratory\, and Practice\, respectively. \n\n\n\n\n\n\n\n\nJOIN Dr.SHIVA® LIVE COURSES
URL:https://vashiva.com/event/dr-shiva-systems-health-live-courses-jan-23-25-2026/
ATTACH;FMTTYPE=image/jpeg:https://vashiva.com/wp-content/uploads/2025/10/SH-LIVE-course-Jan-23-25-2026.jpg
END:VEVENT
END:VCALENDAR