BEGIN:VCALENDAR
VERSION:2.0
PRODID:-//VASHIVA - ECPv6.15.12.1//NONSGML v1.0//EN
CALSCALE:GREGORIAN
METHOD:PUBLISH
X-WR-CALNAME:VASHIVA
X-ORIGINAL-URL:https://vashiva.com
X-WR-CALDESC:Events for VASHIVA
REFRESH-INTERVAL;VALUE=DURATION:PT1H
X-Robots-Tag:noindex
X-PUBLISHED-TTL:PT1H
BEGIN:VTIMEZONE
TZID:America/New_York
BEGIN:DAYLIGHT
TZOFFSETFROM:-0500
TZOFFSETTO:-0400
TZNAME:EDT
DTSTART:20240310T070000
END:DAYLIGHT
BEGIN:STANDARD
TZOFFSETFROM:-0400
TZOFFSETTO:-0500
TZNAME:EST
DTSTART:20241103T060000
END:STANDARD
BEGIN:DAYLIGHT
TZOFFSETFROM:-0500
TZOFFSETTO:-0400
TZNAME:EDT
DTSTART:20250309T070000
END:DAYLIGHT
BEGIN:STANDARD
TZOFFSETFROM:-0400
TZOFFSETTO:-0500
TZNAME:EST
DTSTART:20251102T060000
END:STANDARD
BEGIN:DAYLIGHT
TZOFFSETFROM:-0500
TZOFFSETTO:-0400
TZNAME:EDT
DTSTART:20260308T070000
END:DAYLIGHT
BEGIN:STANDARD
TZOFFSETFROM:-0400
TZOFFSETTO:-0500
TZNAME:EST
DTSTART:20261101T060000
END:STANDARD
END:VTIMEZONE
BEGIN:VEVENT
DTSTART;TZID=America/New_York:20251020T110000
DTEND;TZID=America/New_York:20251020T140000
DTSTAMP:20260419T154316
CREATED:20250924T084253Z
LAST-MODIFIED:20250924T084302Z
UID:59760-1760958000-1760968800@vashiva.com
SUMMARY:VA SHIVA®  Foundations of Systems™ Course – Oct 20\, 2025 at 11 AM EST
DESCRIPTION:Our movement for Truth Freedom Health now expands to educate leaders to ignite a Systems Revolution. On Monday\, Oct 20\, Dr. VA SHIVA will be offering the Foundations of Systems™ Course\, LIVE via Zoom from 11:00 AM to 2:00 PM EST. \nJoin as a Warrior (if you have not done so already) below to get access to the course:https://vashiva.com/register/warrior/ \nExisting Warrior-Scholars can click here to access this event from the dashboard:https://vashiva.com/login/ \nThis course will provide you three pillars of knowledge with the Foundation of Systems Thinking. The three pillars include: 1) The System Dynamics of Truth Freedom Health\, 2) The Power of a Bottom’s Up Movement\, and 3) The Not So Obvious Establishment. \nIn this course\, you will also learn fundamental principles of all systems including your body. \nThe course will also provide you access to the Systems Health portal which will enable you to Learn\, Teach\, and Serve – meaning\, you can use the portal to educate others. \nWe look forward to seeing you on Monday\, Oct 20\, at 11:00 AM EST via Zoom (the link will be sent to you after registration).
URL:https://vashiva.com/event/va-shiva-foundations-of-systems-course-oct-20-2025-at-11-am-est/
ATTACH;FMTTYPE=image/png:https://vashiva.com/wp-content/uploads/2025/09/FOS-Event-11-AM-Oct-20.png
END:VEVENT
BEGIN:VEVENT
DTSTART;TZID=America/New_York:20251020T190000
DTEND;TZID=America/New_York:20251020T220000
DTSTAMP:20260419T154316
CREATED:20250924T084710Z
LAST-MODIFIED:20250924T084722Z
UID:59762-1760986800-1760997600@vashiva.com
SUMMARY:VA SHIVA® Foundations of Systems™ Course – Oct 20\, 2025 at 7 PM EST
DESCRIPTION:Our movement for Truth Freedom Health now expands to educate leaders to ignite a Systems Revolution. On Monday\, Oct 20\, Dr. VA SHIVA will be offering the Foundations of Systems™ Course\, LIVE via Zoom from 7:00 PM to 10:00 PM EST. \nJoin as a Warrior (if you have not done so already) below to get access to the course:https://vashiva.com/register/warrior/ \nExisting Warrior-Scholars can click here to access this event from the dashboard:https://vashiva.com/login/ \nThis course will provide you three pillars of knowledge with the Foundation of Systems Thinking. The three pillars include: 1) The System Dynamics of Truth Freedom Health\, 2) The Power of a Bottom’s Up Movement\, and 3) The Not So Obvious Establishment. \nIn this course\, you will also learn fundamental principles of all systems including your body. \nThe course will also provide you access to the Systems Health portal which will enable you to Learn\, Teach\, and Serve – meaning\, you can use the portal to educate others. \nWe look forward to seeing you on Monday\, Oct 20\, at 7:00 PM EST via Zoom (the link will be sent to you after registration).
URL:https://vashiva.com/event/va-shiva-foundations-of-systems-course-oct-20-2025-at-7-pm-est/
ATTACH;FMTTYPE=image/png:https://vashiva.com/wp-content/uploads/2025/09/FOS-Event-7-PM-Oct-20.png
END:VEVENT
END:VCALENDAR