BEGIN:VCALENDAR
VERSION:2.0
PRODID:-//VASHIVA - ECPv6.15.12.1//NONSGML v1.0//EN
CALSCALE:GREGORIAN
METHOD:PUBLISH
X-ORIGINAL-URL:https://vashiva.com
X-WR-CALDESC:Events for VASHIVA
REFRESH-INTERVAL;VALUE=DURATION:PT1H
X-Robots-Tag:noindex
X-PUBLISHED-TTL:PT1H
BEGIN:VTIMEZONE
TZID:America/New_York
BEGIN:DAYLIGHT
TZOFFSETFROM:-0500
TZOFFSETTO:-0400
TZNAME:EDT
DTSTART:20240310T070000
END:DAYLIGHT
BEGIN:STANDARD
TZOFFSETFROM:-0400
TZOFFSETTO:-0500
TZNAME:EST
DTSTART:20241103T060000
END:STANDARD
BEGIN:DAYLIGHT
TZOFFSETFROM:-0500
TZOFFSETTO:-0400
TZNAME:EDT
DTSTART:20250309T070000
END:DAYLIGHT
BEGIN:STANDARD
TZOFFSETFROM:-0400
TZOFFSETTO:-0500
TZNAME:EST
DTSTART:20251102T060000
END:STANDARD
BEGIN:DAYLIGHT
TZOFFSETFROM:-0500
TZOFFSETTO:-0400
TZNAME:EDT
DTSTART:20260308T070000
END:DAYLIGHT
BEGIN:STANDARD
TZOFFSETFROM:-0400
TZOFFSETTO:-0500
TZNAME:EST
DTSTART:20261101T060000
END:STANDARD
END:VTIMEZONE
BEGIN:VEVENT
DTSTART;TZID=America/New_York:20250912T110000
DTEND;TZID=America/New_York:20250912T130000
DTSTAMP:20260419T141130
CREATED:20250313T145252Z
LAST-MODIFIED:20250811T131334Z
UID:54988-1757674800-1757682000@vashiva.com
SUMMARY:Dr.SHIVA’s Systems Health® Education Lecture: Stress/ Relaxation Health - Sep 12\, 2025 at 11 AM EST
DESCRIPTION:Registration for Systems Health® Education Lecture: Stress/ Relaxation with Dr.SHIVA™. \n\n\n\n\nPurchase Tickets Now\n\n\n\n\nFREE to all TRUTH FREEDOM HEALTH® Warrior-Scholars. If you are already a TRUTH FREEDOM HEALTH® Warrior-Scholar\, please sign in to your TRUTH FREEDOM HEALTH® Warrior-Scholar Dashboard to RSVP and join the Systems Health® Education Lecture for free. \n\n\n\n\nSign-In To The Dashboard
URL:https://vashiva.com/event/dr-shivas-systems-health-education-lecture-stress-relaxation-health-sep-12-2025-at-11-am-est/
ATTACH;FMTTYPE=image/png:https://vashiva.com/wp-content/uploads/2025/03/Systems-Health-Education-Lecture-Stressrelaxation.png
END:VEVENT
END:VCALENDAR