BEGIN:VCALENDAR
VERSION:2.0
PRODID:-//VASHIVA - ECPv6.15.12.1//NONSGML v1.0//EN
CALSCALE:GREGORIAN
METHOD:PUBLISH
X-WR-CALNAME:VASHIVA
X-ORIGINAL-URL:https://vashiva.com
X-WR-CALDESC:Events for VASHIVA
REFRESH-INTERVAL;VALUE=DURATION:PT1H
X-Robots-Tag:noindex
X-PUBLISHED-TTL:PT1H
BEGIN:VTIMEZONE
TZID:America/New_York
BEGIN:DAYLIGHT
TZOFFSETFROM:-0500
TZOFFSETTO:-0400
TZNAME:EDT
DTSTART:20230312T070000
END:DAYLIGHT
BEGIN:STANDARD
TZOFFSETFROM:-0400
TZOFFSETTO:-0500
TZNAME:EST
DTSTART:20231105T060000
END:STANDARD
BEGIN:DAYLIGHT
TZOFFSETFROM:-0500
TZOFFSETTO:-0400
TZNAME:EDT
DTSTART:20240310T070000
END:DAYLIGHT
BEGIN:STANDARD
TZOFFSETFROM:-0400
TZOFFSETTO:-0500
TZNAME:EST
DTSTART:20241103T060000
END:STANDARD
BEGIN:DAYLIGHT
TZOFFSETFROM:-0500
TZOFFSETTO:-0400
TZNAME:EDT
DTSTART:20250309T070000
END:DAYLIGHT
BEGIN:STANDARD
TZOFFSETFROM:-0400
TZOFFSETTO:-0500
TZNAME:EST
DTSTART:20251102T060000
END:STANDARD
END:VTIMEZONE
BEGIN:VEVENT
DTSTART;TZID=America/New_York:20240910T110000
DTEND;TZID=America/New_York:20240910T120000
DTSTAMP:20260419T202859
CREATED:20240905T120315Z
LAST-MODIFIED:20240905T120315Z
UID:48805-1725966000-1725969600@vashiva.com
SUMMARY:C.L.E.A.N.® & R.A.W.® Food Certification Online Forum on September 10\, 2024 at 11:00 AM EST
DESCRIPTION:The significance of C.L.E.A.N.® and R.A.W.® Food Certification and its impact on the global food industry. \nSuper Pop Snacks journey to becoming certified\, how it reflects their mission for health and sustainability\, and how Super Pop Snacks not only meets but exceeds these standards\, embodying the essence of clean food. \nThe science behind the certifications\, including the role of CytoSolve® technology in determining the bioavailability and nutritional value of ingredients. \nDon’t miss this enlightening experience. Register today to secure your spot and be part of the conversation that’s setting a new standard in the global food industry. \nJoin us! \nRSVP to ATTEND \nWe look forward to seeing you on Tuesday\, Sep 10\, at 11:00 AM EST via Zoom (the link will be sent to you after registration). \nAfter registering\, you will receive an email with a link to attend the meeting. If you do not see this email in INBOX\, please check your SPAM folder and move the email into your INBOX.
URL:https://vashiva.com/event/c-l-e-a-n-r-a-w-food-certification-online-forum-on-september-10-2024-at-1100-am-est/
ATTACH;FMTTYPE=image/png:https://vashiva.com/wp-content/uploads/2024/09/CFC-Forum-Sep-2024-V2-1-Updated.png
END:VEVENT
BEGIN:VEVENT
DTSTART;TZID=America/New_York:20240910T150000
DTEND;TZID=America/New_York:20240910T160000
DTSTAMP:20260419T202859
CREATED:20240906T110951Z
LAST-MODIFIED:20240906T162258Z
UID:48842-1725980400-1725984000@vashiva.com
SUMMARY:Neem on Diabetes – September 10\, 2024 at 3:00 PM EST
DESCRIPTION:In this LIVE session\, Dr.SHIVA Ayyadurai\, MIT PhD\, the Inventor of Email\, shares CytoSolve Molecular Systems Analysis on how Neem helps with diabetes
URL:https://vashiva.com/event/neem-on-diabetes-september-10-2024-at-300-pm-est/
ATTACH;FMTTYPE=image/jpeg:https://vashiva.com/wp-content/uploads/2024/09/Neem-on-diabetes-.jpg
END:VEVENT
BEGIN:VEVENT
DTSTART;TZID=America/New_York:20240910T190000
DTEND;TZID=America/New_York:20240910T200000
DTSTAMP:20260419T202859
CREATED:20240821T083439Z
LAST-MODIFIED:20240821T085149Z
UID:48410-1725994800-1725998400@vashiva.com
SUMMARY:Q & A with Dr.SHIVA™ on Foundations of Systems™ for Warrior-Scholars\, Sep 10\, 2024 at 7 PM EST
DESCRIPTION:In this event\, you will have the opportunity to ask Dr.Shiva about Foundations of Systems™ Q & A\, Your Body\, Your System® software and the steps to becoming a Warrior-Scholar. \nPlease sign in to your TFH Warrior-Scholar Dashboard to register for the zoom meeting (the link will be sent to you after registration) to attend Q & A with Dr.SHIVA. \n\nWarrior-Scholars:\nSign-In To The Dashboard
URL:https://vashiva.com/event/q-a-with-dr-shiva-on-foundations-of-systems-for-warrior-scholars-sep-10-2024-at-7-pm-est/
ATTACH;FMTTYPE=image/png:https://vashiva.com/wp-content/uploads/2024/08/September-10-QA-7pm.png
END:VEVENT
END:VCALENDAR