BEGIN:VCALENDAR
VERSION:2.0
PRODID:-//VASHIVA - ECPv6.15.12.1//NONSGML v1.0//EN
CALSCALE:GREGORIAN
METHOD:PUBLISH
X-WR-CALNAME:VASHIVA
X-ORIGINAL-URL:https://vashiva.com
X-WR-CALDESC:Events for VASHIVA
REFRESH-INTERVAL;VALUE=DURATION:PT1H
X-Robots-Tag:noindex
X-PUBLISHED-TTL:PT1H
BEGIN:VTIMEZONE
TZID:America/New_York
BEGIN:DAYLIGHT
TZOFFSETFROM:-0500
TZOFFSETTO:-0400
TZNAME:EDT
DTSTART:20230312T070000
END:DAYLIGHT
BEGIN:STANDARD
TZOFFSETFROM:-0400
TZOFFSETTO:-0500
TZNAME:EST
DTSTART:20231105T060000
END:STANDARD
BEGIN:DAYLIGHT
TZOFFSETFROM:-0500
TZOFFSETTO:-0400
TZNAME:EDT
DTSTART:20240310T070000
END:DAYLIGHT
BEGIN:STANDARD
TZOFFSETFROM:-0400
TZOFFSETTO:-0500
TZNAME:EST
DTSTART:20241103T060000
END:STANDARD
BEGIN:DAYLIGHT
TZOFFSETFROM:-0500
TZOFFSETTO:-0400
TZNAME:EDT
DTSTART:20250309T070000
END:DAYLIGHT
BEGIN:STANDARD
TZOFFSETFROM:-0400
TZOFFSETTO:-0500
TZNAME:EST
DTSTART:20251102T060000
END:STANDARD
END:VTIMEZONE
BEGIN:VEVENT
DTSTART;TZID=America/New_York:20240820T110000
DTEND;TZID=America/New_York:20240820T120000
DTSTAMP:20260420T022632
CREATED:20240717T063840Z
LAST-MODIFIED:20240819T150849Z
UID:47546-1724151600-1724155200@vashiva.com
SUMMARY:Q & A with Dr.SHIVA™ on Foundations of Systems™ for Warrior-Scholars\, Aug 20\, 2024 at 11 AM EST
DESCRIPTION:In this event\, you will have the opportunity to ask Dr.Shiva about Foundations of Systems™ Q & A\, Your Body\, Your System® software and the steps to becoming a Warrior-Scholar. \nTo join\, please sign in to your TFH Warrior-Scholar Dashboard and register for the Zoom meeting under the Events section. The link will be sent to you after registration. \n\nWarrior-Scholars:\nSign-In To The Dashboard
URL:https://vashiva.com/event/q-a-with-dr-shiva-on-foundations-of-systems-for-warrior-scholars-aug-20-2024-at-11-am-est/
ATTACH;FMTTYPE=image/png:https://vashiva.com/wp-content/uploads/2024/07/August-20-Dr.Shiva-QA-Template-11-am.png
END:VEVENT
END:VCALENDAR