BEGIN:VCALENDAR
VERSION:2.0
PRODID:-//VASHIVA - ECPv6.15.12.1//NONSGML v1.0//EN
CALSCALE:GREGORIAN
METHOD:PUBLISH
X-WR-CALNAME:VASHIVA
X-ORIGINAL-URL:https://vashiva.com
X-WR-CALDESC:Events for VASHIVA
REFRESH-INTERVAL;VALUE=DURATION:PT1H
X-Robots-Tag:noindex
X-PUBLISHED-TTL:PT1H
BEGIN:VTIMEZONE
TZID:America/New_York
BEGIN:DAYLIGHT
TZOFFSETFROM:-0500
TZOFFSETTO:-0400
TZNAME:EDT
DTSTART:20230312T070000
END:DAYLIGHT
BEGIN:STANDARD
TZOFFSETFROM:-0400
TZOFFSETTO:-0500
TZNAME:EST
DTSTART:20231105T060000
END:STANDARD
BEGIN:DAYLIGHT
TZOFFSETFROM:-0500
TZOFFSETTO:-0400
TZNAME:EDT
DTSTART:20240310T070000
END:DAYLIGHT
BEGIN:STANDARD
TZOFFSETFROM:-0400
TZOFFSETTO:-0500
TZNAME:EST
DTSTART:20241103T060000
END:STANDARD
BEGIN:DAYLIGHT
TZOFFSETFROM:-0500
TZOFFSETTO:-0400
TZNAME:EDT
DTSTART:20250309T070000
END:DAYLIGHT
BEGIN:STANDARD
TZOFFSETFROM:-0400
TZOFFSETTO:-0500
TZNAME:EST
DTSTART:20251102T060000
END:STANDARD
END:VTIMEZONE
BEGIN:VEVENT
DTSTART;TZID=America/New_York:20240514T190000
DTEND;TZID=America/New_York:20240514T200000
DTSTAMP:20260425T132940
CREATED:20240417T065606Z
LAST-MODIFIED:20240514T140127Z
UID:44824-1715713200-1715716800@vashiva.com
SUMMARY:Q & A with Dr.SHIVA™ on Foundations of Systems™ for Warrior-Scholars\, May 14\, 2024 at 7 PM EST
DESCRIPTION:In this event\, you will have the opportunity to ask Dr.Shiva about Foundations of Systems™ Q & A\, Your Body\, Your System® software and the steps to becoming a Warrior-Scholar. \nPlease sign in to your TFH Warrior-Scholar Dashboard to register for the zoom meeting (the link will be sent to you after registration) to attend Q & A with Dr.SHIVA. \n\nWarrior-Scholars:\nSign-In To The Dashboard
URL:https://vashiva.com/event/q-a-with-dr-shiva-on-foundations-of-systems-for-warrior-scholars-may-14-2024-at-7-pm-est/
ATTACH;FMTTYPE=image/png:https://vashiva.com/wp-content/uploads/2024/04/Dr.Shiva-QA-Template-May-14-7pm.png
END:VEVENT
END:VCALENDAR