BEGIN:VCALENDAR
VERSION:2.0
PRODID:-//VASHIVA - ECPv6.15.12.1//NONSGML v1.0//EN
CALSCALE:GREGORIAN
METHOD:PUBLISH
X-ORIGINAL-URL:https://vashiva.com
X-WR-CALDESC:Events for VASHIVA
REFRESH-INTERVAL;VALUE=DURATION:PT1H
X-Robots-Tag:noindex
X-PUBLISHED-TTL:PT1H
BEGIN:VTIMEZONE
TZID:America/New_York
BEGIN:DAYLIGHT
TZOFFSETFROM:-0500
TZOFFSETTO:-0400
TZNAME:EDT
DTSTART:20220313T070000
END:DAYLIGHT
BEGIN:STANDARD
TZOFFSETFROM:-0400
TZOFFSETTO:-0500
TZNAME:EST
DTSTART:20221106T060000
END:STANDARD
BEGIN:DAYLIGHT
TZOFFSETFROM:-0500
TZOFFSETTO:-0400
TZNAME:EDT
DTSTART:20230312T070000
END:DAYLIGHT
BEGIN:STANDARD
TZOFFSETFROM:-0400
TZOFFSETTO:-0500
TZNAME:EST
DTSTART:20231105T060000
END:STANDARD
BEGIN:DAYLIGHT
TZOFFSETFROM:-0500
TZOFFSETTO:-0400
TZNAME:EDT
DTSTART:20240310T070000
END:DAYLIGHT
BEGIN:STANDARD
TZOFFSETFROM:-0400
TZOFFSETTO:-0500
TZNAME:EST
DTSTART:20241103T060000
END:STANDARD
END:VTIMEZONE
BEGIN:VEVENT
DTSTART;TZID=America/New_York:20230320T110000
DTEND;TZID=America/New_York:20230320T140000
DTSTAMP:20260419T142213
CREATED:20230316T064844Z
LAST-MODIFIED:20230316T065415Z
UID:33225-1679310000-1679320800@vashiva.com
SUMMARY:VA SHIVA®  Foundations of Systems™ Course – March  20\, 2023 at 11 AM EST
DESCRIPTION:Our movement for Truth Freedom Health now expands to educate leaders to ignite a Systems Revolution. On Monday\, March 20\, Dr. VA SHIVA will be offering the Foundations of Systems™ Course\, LIVE via Zoom from 11:00 AM to 2:00 PM EST. \nJoin as a Warrior (if you have not done so already) below to get access to the course:\nhttps://vashiva.com/register/warrior/ \nExisting Warrior-Scholars can click here to access this event from the dashboard:\nhttps://vashiva.com/login/ \nThis course will provide you three pillars of knowledge with the Foundation of Systems Thinking. The three pillars include: 1) The System Dynamics of Truth Freedom Health\, 2) The Power of a Bottom’s Up Movement\, and 3) The Not So Obvious Establishment. \nIn this course\, you will also learn fundamental principles of all systems including your body. \nThe course will also provide you access to the Systems Health portal which will enable you to Learn\, Teach\, and Serve – meaning\, you can use the portal to educate others. \nWe look forward to seeing you on Monday\, March 20\, at 11:00 AM EST via Zoom (the link will be sent to you after registration).
URL:https://vashiva.com/event/va-shiva-foundations-of-systems-course-march-20-2023-at-11-am-est/
END:VEVENT
BEGIN:VEVENT
DTSTART;TZID=America/New_York:20230320T190000
DTEND;TZID=America/New_York:20230320T220000
DTSTAMP:20260419T142213
CREATED:20230316T113550Z
LAST-MODIFIED:20230316T113550Z
UID:33231-1679338800-1679349600@vashiva.com
SUMMARY:VA SHIVA® Foundations of Systems™ Course – March 20\, 2023 at 7 PM EST
DESCRIPTION:Our movement for Truth Freedom Health now expands to educate leaders to ignite a Systems Revolution. On Monday\, March 20\, Dr. VA SHIVA will be offering the Foundations of Systems™ Course\, LIVE via Zoom from 7:00 PM to 10:00 PM EST. \nJoin as a Warrior (if you have not done so already) below to get access to the course:\nhttps://vashiva.com/register/warrior/ \nExisting Warrior-Scholars can click here to access this event from the dashboard:\nhttps://vashiva.com/login/ \nThis course will provide you three pillars of knowledge with the Foundation of Systems Thinking. The three pillars include: 1) The System Dynamics of Truth Freedom Health\, 2) The Power of a Bottom’s Up Movement\, and 3) The Not So Obvious Establishment. \nIn this course\, you will also learn fundamental principles of all systems including your body. \nThe course will also provide you access to the Systems Health portal which will enable you to Learn\, Teach\, and Serve – meaning\, you can use the portal to educate others. \nWe look forward to seeing you on Monday\, March 20\, at 7:00 PM EST via Zoom (the link will be sent to you after registration).
URL:https://vashiva.com/event/va-shiva-foundations-of-systems-course-march-20-2023-at-7-pm-est/
END:VEVENT
END:VCALENDAR