BEGIN:VCALENDAR
VERSION:2.0
PRODID:-//VASHIVA - ECPv6.15.12.1//NONSGML v1.0//EN
CALSCALE:GREGORIAN
METHOD:PUBLISH
X-ORIGINAL-URL:https://vashiva.com
X-WR-CALDESC:Events for VASHIVA
REFRESH-INTERVAL;VALUE=DURATION:PT1H
X-Robots-Tag:noindex
X-PUBLISHED-TTL:PT1H
BEGIN:VTIMEZONE
TZID:America/New_York
BEGIN:DAYLIGHT
TZOFFSETFROM:-0500
TZOFFSETTO:-0400
TZNAME:EDT
DTSTART:20210314T070000
END:DAYLIGHT
BEGIN:STANDARD
TZOFFSETFROM:-0400
TZOFFSETTO:-0500
TZNAME:EST
DTSTART:20211107T060000
END:STANDARD
BEGIN:DAYLIGHT
TZOFFSETFROM:-0500
TZOFFSETTO:-0400
TZNAME:EDT
DTSTART:20220313T070000
END:DAYLIGHT
BEGIN:STANDARD
TZOFFSETFROM:-0400
TZOFFSETTO:-0500
TZNAME:EST
DTSTART:20221106T060000
END:STANDARD
BEGIN:DAYLIGHT
TZOFFSETFROM:-0500
TZOFFSETTO:-0400
TZNAME:EDT
DTSTART:20230312T070000
END:DAYLIGHT
BEGIN:STANDARD
TZOFFSETFROM:-0400
TZOFFSETTO:-0500
TZNAME:EST
DTSTART:20231105T060000
END:STANDARD
END:VTIMEZONE
BEGIN:VEVENT
DTSTART;TZID=America/New_York:20221223T190000
DTEND;TZID=America/New_York:20221223T200000
DTSTAMP:20260420T040624
CREATED:20221210T103702Z
LAST-MODIFIED:20221210T103702Z
UID:31210-1671822000-1671825600@vashiva.com
SUMMARY:Your Body\, Your System® LIVE Tutorial with Dr.SHIVA on Dec 23\, 2022
DESCRIPTION:You are invited to a special LIVE Your Body\, Your System® on Friday\, December 23\, 2022 from 7:00 PM to 8:00 PM EST as part of the Foundations of Systems Course. This training will be conducted online via Zoom access. \nPlease register for the program to be held on Friday\, December 23 from 7:00 PM to 8:00 PM EDT via the Zoom link below. \nReserve Your Seat Online via Zoom:\nhttps://us06web.zoom.us/meeting/register/tZwscuqhrjIjHtFc-jzOoZdcSK-Xuff9oLqc \nAfter registering for the online Zoom\, you will be receiving a confirmation email containing the link to join on Friday. SPACE IS LIMITED.
URL:https://vashiva.com/event/your-body-your-system-live-tutorial-with-dr-shiva-on-dec-23-2022/
END:VEVENT
END:VCALENDAR