BEGIN:VCALENDAR
VERSION:2.0
PRODID:-//VASHIVA - ECPv6.15.12.1//NONSGML v1.0//EN
CALSCALE:GREGORIAN
METHOD:PUBLISH
X-ORIGINAL-URL:https://vashiva.com
X-WR-CALDESC:Events for VASHIVA
REFRESH-INTERVAL;VALUE=DURATION:PT1H
X-Robots-Tag:noindex
X-PUBLISHED-TTL:PT1H
BEGIN:VTIMEZONE
TZID:America/New_York
BEGIN:DAYLIGHT
TZOFFSETFROM:-0500
TZOFFSETTO:-0400
TZNAME:EDT
DTSTART:20210314T070000
END:DAYLIGHT
BEGIN:STANDARD
TZOFFSETFROM:-0400
TZOFFSETTO:-0500
TZNAME:EST
DTSTART:20211107T060000
END:STANDARD
BEGIN:DAYLIGHT
TZOFFSETFROM:-0500
TZOFFSETTO:-0400
TZNAME:EDT
DTSTART:20220313T070000
END:DAYLIGHT
BEGIN:STANDARD
TZOFFSETFROM:-0400
TZOFFSETTO:-0500
TZNAME:EST
DTSTART:20221106T060000
END:STANDARD
BEGIN:DAYLIGHT
TZOFFSETFROM:-0500
TZOFFSETTO:-0400
TZNAME:EDT
DTSTART:20230312T070000
END:DAYLIGHT
BEGIN:STANDARD
TZOFFSETFROM:-0400
TZOFFSETTO:-0500
TZNAME:EST
DTSTART:20231105T060000
END:STANDARD
END:VTIMEZONE
BEGIN:VEVENT
DTSTART;TZID=America/New_York:20221217T100000
DTEND;TZID=America/New_York:20221217T140000
DTSTAMP:20260419T233449
CREATED:20221214T090408Z
LAST-MODIFIED:20221214T104728Z
UID:31252-1671271200-1671285600@vashiva.com
SUMMARY:1st International Conference on The Government & Big Tech Censorship System - Dec 17\, 2022. 10am to 2PM - LIVE & VIRTUAL
DESCRIPTION:Online platforms run by large “private” companies have come to dominate our modern discourse\, particularly in the realm of politics. Governments around the world have taken increasingly aggressive measures to control the speech of their citizens and restrict the flow of information. In the United States\, where the First Amendment prohibits such Government action\, Big Tech Companies have filled the gap by establishing a secet infrastructure by which Academics and Government officials set policies to by “independently” carried out by Big Tech. \nAttend In-Person or Virtual. $25 per person. \nPurchase Ticket
URL:https://vashiva.com/event/1st-international-conference-on-the-government-big-tech-censorship-system/
LOCATION:701 Concord Ave\, 701 Concord Ave\, Cambridge\, MA\, 02138\, United States
END:VEVENT
END:VCALENDAR