BEGIN:VCALENDAR
VERSION:2.0
PRODID:-//VASHIVA - ECPv6.15.12.1//NONSGML v1.0//EN
CALSCALE:GREGORIAN
METHOD:PUBLISH
X-WR-CALNAME:VASHIVA
X-ORIGINAL-URL:https://vashiva.com
X-WR-CALDESC:Events for VASHIVA
REFRESH-INTERVAL;VALUE=DURATION:PT1H
X-Robots-Tag:noindex
X-PUBLISHED-TTL:PT1H
BEGIN:VTIMEZONE
TZID:America/New_York
BEGIN:DAYLIGHT
TZOFFSETFROM:-0500
TZOFFSETTO:-0400
TZNAME:EDT
DTSTART:20210314T070000
END:DAYLIGHT
BEGIN:STANDARD
TZOFFSETFROM:-0400
TZOFFSETTO:-0500
TZNAME:EST
DTSTART:20211107T060000
END:STANDARD
BEGIN:DAYLIGHT
TZOFFSETFROM:-0500
TZOFFSETTO:-0400
TZNAME:EDT
DTSTART:20220313T070000
END:DAYLIGHT
BEGIN:STANDARD
TZOFFSETFROM:-0400
TZOFFSETTO:-0500
TZNAME:EST
DTSTART:20221106T060000
END:STANDARD
BEGIN:DAYLIGHT
TZOFFSETFROM:-0500
TZOFFSETTO:-0400
TZNAME:EDT
DTSTART:20230312T070000
END:DAYLIGHT
BEGIN:STANDARD
TZOFFSETFROM:-0400
TZOFFSETTO:-0500
TZNAME:EST
DTSTART:20231105T060000
END:STANDARD
END:VTIMEZONE
BEGIN:VEVENT
DTSTART;TZID=America/New_York:20220827T110000
DTEND;TZID=America/New_York:20220827T110000
DTSTAMP:20260422T055719
CREATED:20220824T075430Z
LAST-MODIFIED:20220826T075808Z
UID:28401-1661598000-1661598000@vashiva.com
SUMMARY:Dr. SHIVA-Special Lecture Series - The Seven Secrets of Innovation - Aug 27\, 2022 at 11 am EST
DESCRIPTION:Saturday\, 11am US Eastern Time. August 27\, 2022. \nBecome a Truth Freedom Health® Warrior\n \nFREE to all TRUTH FREEDOM HEALTH® Warrior-Scholars. If you are already a TFH Warrior-Scholar\, please sign in to your TFH Warrior-Scholar Dashboard to RSVP and join the lecture for free.\n\nWarrior-Scholars:\nSign-In To The Dashboard\n\n 
URL:https://vashiva.com/event/dr-shiva-special-lecture-series-the-seven-secrets-of-innovation/
END:VEVENT
END:VCALENDAR