BEGIN:VCALENDAR
VERSION:2.0
PRODID:-//VASHIVA - ECPv6.15.12.1//NONSGML v1.0//EN
CALSCALE:GREGORIAN
METHOD:PUBLISH
X-WR-CALNAME:VASHIVA
X-ORIGINAL-URL:https://vashiva.com
X-WR-CALDESC:Events for VASHIVA
REFRESH-INTERVAL;VALUE=DURATION:PT1H
X-Robots-Tag:noindex
X-PUBLISHED-TTL:PT1H
BEGIN:VTIMEZONE
TZID:America/New_York
BEGIN:DAYLIGHT
TZOFFSETFROM:-0500
TZOFFSETTO:-0400
TZNAME:EDT
DTSTART:20210314T070000
END:DAYLIGHT
BEGIN:STANDARD
TZOFFSETFROM:-0400
TZOFFSETTO:-0500
TZNAME:EST
DTSTART:20211107T060000
END:STANDARD
BEGIN:DAYLIGHT
TZOFFSETFROM:-0500
TZOFFSETTO:-0400
TZNAME:EDT
DTSTART:20220313T070000
END:DAYLIGHT
BEGIN:STANDARD
TZOFFSETFROM:-0400
TZOFFSETTO:-0500
TZNAME:EST
DTSTART:20221106T060000
END:STANDARD
BEGIN:DAYLIGHT
TZOFFSETFROM:-0500
TZOFFSETTO:-0400
TZNAME:EDT
DTSTART:20230312T070000
END:DAYLIGHT
BEGIN:STANDARD
TZOFFSETFROM:-0400
TZOFFSETTO:-0500
TZNAME:EST
DTSTART:20231105T060000
END:STANDARD
END:VTIMEZONE
BEGIN:VEVENT
DTSTART;TZID=America/New_York:20220723T083000
DTEND;TZID=America/New_York:20220723T093000
DTSTAMP:20260422T160909
CREATED:20220721T112048Z
LAST-MODIFIED:20220721T112215Z
UID:27789-1658565000-1658568600@vashiva.com
SUMMARY:ASIA & INDIA Truth Freedom Health® Summit - July 23\, 2022\, SAT at 6 PM IST
DESCRIPTION:You are invited to attend the ASIA & INDIA Truth Freedom Health® Summit to be held at 6PM IST\, this SATURDAY on JULY 23\, 2022\, that I will host personally.  Please  click on the image below to register: \n \nOr click on this link: https://us06web.zoom.us/meeting/register/tZMoceyvrjItGtJtCZFybBIF2E17kU5d-tR0\nto register. \nThis is a virtual summit that will occur online. Seating is limited so register as soon as possible to reserve your spot.  Again\, I will be hosting the event\, will be available for questions. \nThe Purpose of Asia & India Truth Freedom Health® Summit\nAs many of you know\, my life has been dedicated to bridging the worlds – the SYSTEMS – of East & West\, Science & Tradition\, Ancient & Modern.  That journey resulted in my discovering the scientific interconnection that binds Traditional Systems of Asian and Indian indigenous medicine with Modern Engineering Systems Theory.  The video above shares that Journey. \n \nThe Movement for Truth Freedom Health® Summit\nThis discovery resulted in my creating an educational curriculum – The Foundations of Systems – which I taught at MIT\, Harvard and at other major leading educational institutions.  That curriculum is now integrated into the VASHIVA Platform\, providing technologies – independent of Big Tech – for advancing your knowledge of systems\, and building community among others locally and globally – as shared in this video: \n \nThe VASHIVA platform\, which some of you have access to as Warrior-Scholars\, has now facilitated an explosive and growing movement worldwide. \nAt this meeting\, we will discuss and get your feedback on why\, how and what we must do to grow the movement for Truth Freedom Health in Asia and India. \nJoin us! \nAgain to register for this SATURDAY JULY 23 at 6PM IST Summit\, simply click the link below: https://us06web.zoom.us/meeting/register/tZMoceyvrjItGtJtCZFybBIF2E17kU5d-tR0\n.\nAfter registering\, you will receive a confirmation email containing the Zoom link to join on Saturday. \nSee you on Saturday\, July 23\, 2022 at 6PM IST! \nBe the Light\,\nDr.SHIVA
URL:https://vashiva.com/event/asia-india-truth-freedom-health-summit-july-23-2022-sat-at-6-pm/
END:VEVENT
END:VCALENDAR