BEGIN:VCALENDAR
VERSION:2.0
PRODID:-//VASHIVA - ECPv6.15.12.1//NONSGML v1.0//EN
CALSCALE:GREGORIAN
METHOD:PUBLISH
X-ORIGINAL-URL:https://vashiva.com
X-WR-CALDESC:Events for VASHIVA
REFRESH-INTERVAL;VALUE=DURATION:PT1H
X-Robots-Tag:noindex
X-PUBLISHED-TTL:PT1H
BEGIN:VTIMEZONE
TZID:America/New_York
BEGIN:DAYLIGHT
TZOFFSETFROM:-0500
TZOFFSETTO:-0400
TZNAME:EDT
DTSTART:20210314T070000
END:DAYLIGHT
BEGIN:STANDARD
TZOFFSETFROM:-0400
TZOFFSETTO:-0500
TZNAME:EST
DTSTART:20211107T060000
END:STANDARD
BEGIN:DAYLIGHT
TZOFFSETFROM:-0500
TZOFFSETTO:-0400
TZNAME:EDT
DTSTART:20220313T070000
END:DAYLIGHT
BEGIN:STANDARD
TZOFFSETFROM:-0400
TZOFFSETTO:-0500
TZNAME:EST
DTSTART:20221106T060000
END:STANDARD
BEGIN:DAYLIGHT
TZOFFSETFROM:-0500
TZOFFSETTO:-0400
TZNAME:EDT
DTSTART:20230312T070000
END:DAYLIGHT
BEGIN:STANDARD
TZOFFSETFROM:-0400
TZOFFSETTO:-0500
TZNAME:EST
DTSTART:20231105T060000
END:STANDARD
END:VTIMEZONE
BEGIN:VEVENT
DTSTART;TZID=America/New_York:20220707T110000
DTEND;TZID=America/New_York:20220707T113000
DTSTAMP:20260425T133115
CREATED:20220704T105353Z
LAST-MODIFIED:20220704T105353Z
UID:27337-1657191600-1657193400@vashiva.com
SUMMARY:Truth Freedom Health® Open House/Orientation - July 07\, 2022 at 11 AM
DESCRIPTION:You are cordially invited to attend an Open House/Orientation this Thursday to learn about the many features\, tools and capabilities afforded to you based on your level of membership (Member\, Supporter\, Warrior-Scholar) into the VASHIVA® Educational Portal. If you ordered a copy of the book System and Revolution\, you also received complimentary membership into the portal as a Member. \nPlease click here to RSVP to receive the meeting link. You will have an option to attend either the 11:00 am or 8:00 pm EST session this Thursday. \nRSVP for VASHIVA® Orientation \nThe event will be 30 minutes facilitated by one of our educational leaders. Look forward to your attendance so you may learn about all the features afforded to you so you may become an agent for Truth Freedom Health in your community. \n  \nBe the Light\,\nDr.SHIVA
URL:https://vashiva.com/event/truth-freedom-health-open-house-orientation-july-07-2022-at-11-am/
END:VEVENT
BEGIN:VEVENT
DTSTART;TZID=America/New_York:20220707T190000
DTEND;TZID=America/New_York:20220707T194500
DTSTAMP:20260425T133115
CREATED:20220630T150958Z
LAST-MODIFIED:20220630T150958Z
UID:27277-1657220400-1657223100@vashiva.com
SUMMARY:EXCLUSIVE: Dr. Shiva Presents "The Path Forward" Thu 7 PM
DESCRIPTION:YOU are invited to join our GLOBAL COMMUNITY for an EXCLUSIVE LIVE session with Dr.SHIVA. He will present “The Path Forward” following his retreat in India. This session will provide a clear direction with PRACTICAL THINGS YOU CAN DO to empower each one of you to be agents of change in your local community to unleash Truth Freedom and Health.
URL:https://vashiva.com/event/exclusive-dr-shiva-presents-the-path-forward-thu-7-pm-2/
END:VEVENT
BEGIN:VEVENT
DTSTART;TZID=America/New_York:20220707T200000
DTEND;TZID=America/New_York:20220707T203000
DTSTAMP:20260425T133115
CREATED:20220704T104331Z
LAST-MODIFIED:20220704T104837Z
UID:27335-1657224000-1657225800@vashiva.com
SUMMARY:Truth Freedom Health® Open House/Orientation - July 07\, 2022 at 8 PM
DESCRIPTION:You are cordially invited to attend an Open House/Orientation this Thursday to learn about the many features\, tools and capabilities afforded to you based on your level of membership (Member\, Supporter\, Warrior-Scholar) into the VASHIVA® Educational Portal. If you ordered a copy of the book System and Revolution\, you also received complimentary membership into the portal as a Member. \nPlease click here to RSVP to receive the meeting link. You will have an option to attend either the 11:00 am or 8:00 pm EST session this Thursday. \nRSVP for VASHIVA® Orientation \nThe event will be 30 minutes facilitated by one of our educational leaders. Look forward to your attendance so you may learn about all the features afforded to you so you may become an agent for Truth Freedom Health in your community. \n  \nBe the Light\,\nDr.SHIVA
URL:https://vashiva.com/event/truth-freedom-health-open-house-orientation-july-07-2022-at-8-pm/
END:VEVENT
END:VCALENDAR