BEGIN:VCALENDAR
VERSION:2.0
PRODID:-//VASHIVA - ECPv6.15.12.1//NONSGML v1.0//EN
CALSCALE:GREGORIAN
METHOD:PUBLISH
X-WR-CALNAME:VASHIVA
X-ORIGINAL-URL:https://vashiva.com
X-WR-CALDESC:Events for VASHIVA
REFRESH-INTERVAL;VALUE=DURATION:PT1H
X-Robots-Tag:noindex
X-PUBLISHED-TTL:PT1H
BEGIN:VTIMEZONE
TZID:America/New_York
BEGIN:DAYLIGHT
TZOFFSETFROM:-0500
TZOFFSETTO:-0400
TZNAME:EDT
DTSTART:20190310T070000
END:DAYLIGHT
BEGIN:STANDARD
TZOFFSETFROM:-0400
TZOFFSETTO:-0500
TZNAME:EST
DTSTART:20191103T060000
END:STANDARD
BEGIN:DAYLIGHT
TZOFFSETFROM:-0500
TZOFFSETTO:-0400
TZNAME:EDT
DTSTART:20200308T070000
END:DAYLIGHT
BEGIN:STANDARD
TZOFFSETFROM:-0400
TZOFFSETTO:-0500
TZNAME:EST
DTSTART:20201101T060000
END:STANDARD
BEGIN:DAYLIGHT
TZOFFSETFROM:-0500
TZOFFSETTO:-0400
TZNAME:EDT
DTSTART:20210314T070000
END:DAYLIGHT
BEGIN:STANDARD
TZOFFSETFROM:-0400
TZOFFSETTO:-0500
TZNAME:EST
DTSTART:20211107T060000
END:STANDARD
END:VTIMEZONE
BEGIN:VEVENT
DTSTART;TZID=America/New_York:20200106T130000
DTEND;TZID=America/New_York:20200106T143000
DTSTAMP:20260419T200724
CREATED:20200104T090314Z
LAST-MODIFIED:20200128T072943Z
UID:5323-1578315600-1578321000@vashiva.com
SUMMARY:Science Ain't Settled Rally at Trenton\, NJ
DESCRIPTION:Join Dr.SHIVA in the Science Ain’t Settled Rally at Trenton\, NJ
URL:https://vashiva.com/event/science-aint-settled-rally/
LOCATION:New Jersey State House\, 125 W State St\, Trenton\, NJ\, 08608\, United States
ATTACH;FMTTYPE=image/jpeg:https://vashiva.com/wp-content/uploads/2020/01/shiva-ayyadurai-discusses-cdc-vaccination-schedule-feat-1.jpg
END:VEVENT
BEGIN:VEVENT
DTSTART;TZID=America/New_York:20200106T173000
DTEND;TZID=America/New_York:20200106T180000
DTSTAMP:20260419T200724
CREATED:20200104T085326Z
LAST-MODIFIED:20200128T041801Z
UID:5321-1578331800-1578333600@vashiva.com
SUMMARY:Vigil For Truth at Livingston\, NJ
DESCRIPTION:Join Dr.SHIVA & Hotep Jesus at a “Vigil For Truth” hosted at Livingston\, NJ
URL:https://vashiva.com/event/vigil-for-truth-at-livingston-nj/
LOCATION:Livingston High School\, 30 Robert Harp Drive\, Livingston\, NJ\, 07039\, United States
ATTACH;FMTTYPE=image/jpeg:https://vashiva.com/wp-content/uploads/2020/01/shiva-ayyadurai-lecture-vigil-livingston-high.jpg
END:VEVENT
BEGIN:VEVENT
DTSTART;TZID=America/New_York:20200106T190000
DTEND;TZID=America/New_York:20200106T203000
DTSTAMP:20260419T200724
CREATED:20200104T085547Z
LAST-MODIFIED:20200128T041330Z
UID:5318-1578337200-1578342600@vashiva.com
SUMMARY:Lecture on Search for Truth: Scientific Consensus vs. Scientific Method at Livingston\, NJ
DESCRIPTION:Join Dr.SHIVA & Hotep Jesus in Livingston \, NJ at a Scientific Lecture on “Search for Truth: Scientific Consensus vs. Scientific Method.” Exact location will be shared before event.
URL:https://vashiva.com/event/lecture-on-search-for-truth-scientific-consensus-vs-scientific-method/
LOCATION:Livingston Area\, Livingston Area\, Livingston\, MA\, 07039\, United States
ATTACH;FMTTYPE=image/jpeg:https://vashiva.com/wp-content/uploads/2020/01/shiva-ayyadurai-lecture-1.jpg
END:VEVENT
END:VCALENDAR