BEGIN:VCALENDAR
VERSION:2.0
PRODID:-//VASHIVA - ECPv6.15.12.1//NONSGML v1.0//EN
CALSCALE:GREGORIAN
METHOD:PUBLISH
X-WR-CALNAME:VASHIVA
X-ORIGINAL-URL:https://vashiva.com
X-WR-CALDESC:Events for VASHIVA
REFRESH-INTERVAL;VALUE=DURATION:PT1H
X-Robots-Tag:noindex
X-PUBLISHED-TTL:PT1H
BEGIN:VTIMEZONE
TZID:America/New_York
BEGIN:DAYLIGHT
TZOFFSETFROM:-0500
TZOFFSETTO:-0400
TZNAME:EDT
DTSTART:20180311T070000
END:DAYLIGHT
BEGIN:STANDARD
TZOFFSETFROM:-0400
TZOFFSETTO:-0500
TZNAME:EST
DTSTART:20181104T060000
END:STANDARD
BEGIN:DAYLIGHT
TZOFFSETFROM:-0500
TZOFFSETTO:-0400
TZNAME:EDT
DTSTART:20190310T070000
END:DAYLIGHT
BEGIN:STANDARD
TZOFFSETFROM:-0400
TZOFFSETTO:-0500
TZNAME:EST
DTSTART:20191103T060000
END:STANDARD
BEGIN:DAYLIGHT
TZOFFSETFROM:-0500
TZOFFSETTO:-0400
TZNAME:EDT
DTSTART:20200308T070000
END:DAYLIGHT
BEGIN:STANDARD
TZOFFSETFROM:-0400
TZOFFSETTO:-0500
TZNAME:EST
DTSTART:20201101T060000
END:STANDARD
END:VTIMEZONE
BEGIN:VEVENT
DTSTART;TZID=America/New_York:20191012T140000
DTEND;TZID=America/New_York:20191012T160000
DTSTAMP:20260419T103924
CREATED:20181011T071732Z
LAST-MODIFIED:20200128T080638Z
UID:5346-1570888800-1570896000@vashiva.com
SUMMARY:VACCINES: Beyond VAXX & ANTI-VAXX - Oct 12\, 2019
DESCRIPTION:Across America\, the topic of vaccines has elicited an excited and divisive discourse between “vaxxers” and “anti-vaxxers.” This workshop\, conducted by scientist\, inventor and statesman Dr. Shiva Ayyadurai\, MIT PhD\, provides a unique and timely opportunity not only to get educated on the fundamentals of vaccines but also to learn a rational framework for assessing vaccine safety based on the three pillars of: 1) Risk Assessment; 2) Precision & Personalized Medicine; and 3) Engineering Systems
URL:https://vashiva.com/event/vaccines-beyond-vaxx-anti-vaxx-oct-12-2019/
LOCATION:Karuna Center for Yoga & Healing Arts\, 25 Main Street #341\, Northampton\, CA\, 01060\, United States
ATTACH;FMTTYPE=image/jpeg:https://vashiva.com/wp-content/uploads/2018/10/vaccines-beyond-vaxx-anti-vaxx-feat-1.jpg
END:VEVENT
END:VCALENDAR