BEGIN:VCALENDAR
VERSION:2.0
PRODID:-//VASHIVA - ECPv6.15.12.1//NONSGML v1.0//EN
CALSCALE:GREGORIAN
METHOD:PUBLISH
X-WR-CALNAME:VASHIVA
X-ORIGINAL-URL:https://vashiva.com
X-WR-CALDESC:Events for VASHIVA
REFRESH-INTERVAL;VALUE=DURATION:PT1H
X-Robots-Tag:noindex
X-PUBLISHED-TTL:PT1H
BEGIN:VTIMEZONE
TZID:America/New_York
BEGIN:DAYLIGHT
TZOFFSETFROM:-0500
TZOFFSETTO:-0400
TZNAME:EDT
DTSTART:20160313T070000
END:DAYLIGHT
BEGIN:STANDARD
TZOFFSETFROM:-0400
TZOFFSETTO:-0500
TZNAME:EST
DTSTART:20161106T060000
END:STANDARD
BEGIN:DAYLIGHT
TZOFFSETFROM:-0500
TZOFFSETTO:-0400
TZNAME:EDT
DTSTART:20170312T070000
END:DAYLIGHT
BEGIN:STANDARD
TZOFFSETFROM:-0400
TZOFFSETTO:-0500
TZNAME:EST
DTSTART:20171105T060000
END:STANDARD
BEGIN:DAYLIGHT
TZOFFSETFROM:-0500
TZOFFSETTO:-0400
TZNAME:EDT
DTSTART:20180311T070000
END:DAYLIGHT
BEGIN:STANDARD
TZOFFSETFROM:-0400
TZOFFSETTO:-0500
TZNAME:EST
DTSTART:20181104T060000
END:STANDARD
END:VTIMEZONE
BEGIN:VEVENT
DTSTART;TZID=America/New_York:20170117T103000
DTEND;TZID=America/New_York:20170117T113000
DTSTAMP:20260419T213824
CREATED:20170115T113343Z
LAST-MODIFIED:20220121T171910Z
UID:6209-1484649000-1484652600@vashiva.com
SUMMARY:Inaugural Talk at Plinth 2017\, LNM Institute of Information Technology\, Jaipur\, India
DESCRIPTION:Dr. V.A. Shiva Ayyadurai will be delivering the inaugural talk at Plinth 2017\, the annual Techno-Management Literary Festival at LNM Institute of Information Technology (LNMIIT).buy tadalista professional online https://www.mabvi.org/wp-content/languages/en/tadalista-professional.html no prescription\n The event is scheduled on January 17\, 2017 from 10:30 am to 11:30 am EST (9:00 pm to 10:00 pm IST).  The LNM Institute of Information Technology\, is a deemed university located in Jaipur\, India\, on an 100-acre campus.
URL:https://vashiva.com/event/inaugural-talk-at-plinth-2017-lnm-institute-of-management-technology-jaipur-india/
CATEGORIES:VA Shiva Events
ATTACH;FMTTYPE=image/jpeg:https://vashiva.com/wp-content/uploads/2020/01/speech_plinth_2017_lnmmit_jaipur_feature_image.jpg
END:VEVENT
END:VCALENDAR