BEGIN:VCALENDAR
VERSION:2.0
PRODID:-//VASHIVA - ECPv6.15.12.1//NONSGML v1.0//EN
CALSCALE:GREGORIAN
METHOD:PUBLISH
X-ORIGINAL-URL:https://vashiva.com
X-WR-CALDESC:Events for VASHIVA
REFRESH-INTERVAL;VALUE=DURATION:PT1H
X-Robots-Tag:noindex
X-PUBLISHED-TTL:PT1H
BEGIN:VTIMEZONE
TZID:America/New_York
BEGIN:DAYLIGHT
TZOFFSETFROM:-0500
TZOFFSETTO:-0400
TZNAME:EDT
DTSTART:20160313T070000
END:DAYLIGHT
BEGIN:STANDARD
TZOFFSETFROM:-0400
TZOFFSETTO:-0500
TZNAME:EST
DTSTART:20161106T060000
END:STANDARD
BEGIN:DAYLIGHT
TZOFFSETFROM:-0500
TZOFFSETTO:-0400
TZNAME:EDT
DTSTART:20170312T070000
END:DAYLIGHT
BEGIN:STANDARD
TZOFFSETFROM:-0400
TZOFFSETTO:-0500
TZNAME:EST
DTSTART:20171105T060000
END:STANDARD
BEGIN:DAYLIGHT
TZOFFSETFROM:-0500
TZOFFSETTO:-0400
TZNAME:EDT
DTSTART:20180311T070000
END:DAYLIGHT
BEGIN:STANDARD
TZOFFSETFROM:-0400
TZOFFSETTO:-0500
TZNAME:EST
DTSTART:20181104T060000
END:STANDARD
END:VTIMEZONE
BEGIN:VEVENT
DTSTART;TZID=America/New_York:20170116T063000
DTEND;TZID=America/New_York:20170116T064500
DTSTAMP:20260419T201021
CREATED:20160113T125350Z
LAST-MODIFIED:20220121T173924Z
UID:6212-1484548200-1484549100@vashiva.com
SUMMARY:Dr. V.A. Shiva Ayyadurai Live on Wintrust Business Lunch with Steve Grzanich
DESCRIPTION:Dr. V.A. Shiva Ayyadurai will be speaking live with host Steve Grzanich on Wintrust Business Lunch on WGN AM.buy sildalis online https://healthcoachmichelle.com/wp-content/languages/en/sildalis.html no prescription\n The show is scheduled on Monday\, January 16\, 2017 at 6:34 am EST (5:34 am CST)
URL:https://vashiva.com/event/dr-v-a-shiva-ayyadurai-live-on-wintrust-business-lunch-with-steve-grzanich/
LOCATION:WGN-AM Radio
CATEGORIES:VA Shiva Events
ATTACH;FMTTYPE=image/jpeg:https://vashiva.com/wp-content/uploads/2020/01/va-shiva-ayyadurai-live-with-steve-grzanich-on-wintrust-business-lunch-feature.jpg
END:VEVENT
END:VCALENDAR