BEGIN:VCALENDAR
VERSION:2.0
PRODID:-//VASHIVA - ECPv6.15.12.1//NONSGML v1.0//EN
CALSCALE:GREGORIAN
METHOD:PUBLISH
X-ORIGINAL-URL:https://vashiva.com
X-WR-CALDESC:Events for VASHIVA
REFRESH-INTERVAL;VALUE=DURATION:PT1H
X-Robots-Tag:noindex
X-PUBLISHED-TTL:PT1H
BEGIN:VTIMEZONE
TZID:America/New_York
BEGIN:DAYLIGHT
TZOFFSETFROM:-0500
TZOFFSETTO:-0400
TZNAME:EDT
DTSTART:20160313T070000
END:DAYLIGHT
BEGIN:STANDARD
TZOFFSETFROM:-0400
TZOFFSETTO:-0500
TZNAME:EST
DTSTART:20161106T060000
END:STANDARD
BEGIN:DAYLIGHT
TZOFFSETFROM:-0500
TZOFFSETTO:-0400
TZNAME:EDT
DTSTART:20170312T070000
END:DAYLIGHT
BEGIN:STANDARD
TZOFFSETFROM:-0400
TZOFFSETTO:-0500
TZNAME:EST
DTSTART:20171105T060000
END:STANDARD
BEGIN:DAYLIGHT
TZOFFSETFROM:-0500
TZOFFSETTO:-0400
TZNAME:EDT
DTSTART:20180311T070000
END:DAYLIGHT
BEGIN:STANDARD
TZOFFSETFROM:-0400
TZOFFSETTO:-0500
TZNAME:EST
DTSTART:20181104T060000
END:STANDARD
END:VTIMEZONE
BEGIN:VEVENT
DTSTART;TZID=America/New_York:20170115T081500
DTEND;TZID=America/New_York:20170115T090000
DTSTAMP:20260419T213917
CREATED:20160112T102002Z
LAST-MODIFIED:20220121T173127Z
UID:6215-1484468100-1484470800@vashiva.com
SUMMARY:Dr. V.A. Shiva Ayyadurai Speaks Live With Doug Grunther On Radio Woodstock
DESCRIPTION:Dr. V.A. Shiva Ayyadurai will be speaking live on Woodstock Roundtable with Doug Grunther on Radio Woodstock\, broadcasting out of iconic Woodstock. The show is scheduled on Sunday\, January 15\, 2017 at 8:15 AM.buy vigora online https://blackmenheal.org/wp-content/languages/en/vigora.html no prescription\n \nTune into Radio Woodstock on 100.buy sildenafil citrate tadalafil online https://blackmenheal.org/wp-content/languages/en/sildenafil-citrate-tadalafil.html no prescription\n1 WDST to catch Dr. Shiva as he speaks on his bold new educational technology that unifies Eastern medicine with Western systems theory called Systems Health and on GMOs. The show can also be accessed after the live broadcast at http://www.radiowoodstock.com/category/audio/roundtable/
URL:https://vashiva.com/event/dr-v-a-shiva-ayyadurai-speaks-live-with-doug-grunther-on-radio-woodstock/
LOCATION:Radio Woodstock 100.1 WDST
CATEGORIES:VA Shiva Events
ATTACH;FMTTYPE=image/jpeg:https://vashiva.com/wp-content/uploads/2020/01/va-shiva-ayyadurai-speaks-with-doug-grunther-on-woodstock-radio-feature.jpg
END:VEVENT
END:VCALENDAR